Workbook
Name range: #REF!
Name range: #REF!
Name range: #REF!

Sheet Расходы (2)
A1: Приложение 2 к пояснительной записке
A2: Изменение распределения бюджетных ассигнований по ведомственной структуре расходов бюджета Клетнянского муниципального района Брянской области на 2026 год и на плановый период 2027 и 2028 годов
A3: рублей
A4: Наименование | B4: ГРБС | C4: Рз | D4: Пр | E4: ЦСР | F4: ВР | G4: Предыдущее решение 2026 год | H4: Изменение 2026 год (+/-) | I4: Итог 2026 год | J4: Предыдущее решение 2026 год | K4: Изменение 2027 год (+/-) | L4: Итог 2027 год | M4: Предыдущее решение 2028 год | N4: Изменение 2028 год (+/-) | O4: Итог 2028 год
A5: 1 | B5: 2 | C5: 3 | D5: 4 | E5: 5 | F5: 6 | G5: 7 | H5: 8 | I5: 9 | J5: 10 | K5: 11 | L5: 12 | M5: 13 | N5: 14 | O5: 15
A6: Администрация Клетнянского района | B6: 851 | G6: =G7+G119+G129+G146+G190+G217+G227+G252+G307+G330 -> 4.2186407e+08 | H6: =H7+H119+H129+H146+H190+H217+H227+H252+H307+H330 -> 8554725 | I6: =I7+I119+I129+I146+I190+I217+I227+I252+I307+I330 -> 4.304188e+08 | J6: =J7+J119+J129+J146+J190+J217+J227+J252+J307+J330 -> 1.8011994e+08 | K6: =K7+K119+K129+K146+K190+K217+K227+K252+K307+K330 -> 0 | L6: =L7+L119+L129+L146+L190+L217+L227+L252+L307+L330 -> 1.8011994e+08 | M6: =M7+M119+M129+M146+M190+M217+M227+M252+M307+M330 -> 1.4892004e+08 | N6: =N7+N119+N129+N146+N190+N217+N227+N252+N307+N330 -> 0 | O6: =O7+O119+O129+O146+O190+O217+O227+O252+O307+O330 -> 1.4892004e+08
A7: Общегосударственные вопросы | B7: 851 | C7: 01 | G7: =G8+G97+G102 -> 47809707 | H7: =H8+H97+H102 -> 0 | I7: =I8+I97+I102 -> 47809707 | J7: =J8+J97+J102 -> 42654266 | K7: =K8+K97+K102 -> -3334131 | L7: =L8+L97+L102 -> 39320135 | M7: =M8+M97+M102 -> 42654620 | N7: =N8+N97+N102 -> 0 | O7: =O8+O97+O102 -> 42654620
A8: Функционирование Правительства Российской Федерации, высших исполнительных органов субъектов Российской Федерации, местных администраций | B8: 851 | C8: 01 | D8: 04 | G8: =G9+G17+G25+G29+G37+G45+G50+G77+G65+G69+G73+G81+G85+G89+G93 -> 41786328 | H8: =H9+H17+H25+H29+H37+H45+H50+H77+H65+H69+H73+H81+H85+H89+H93 -> 0 | I8: =I9+I17+I25+I29+I37+I45+I50+I77+I65+I69+I73+I81+I85+I89+I93 -> 41786328 | J8: =J9+J17+J25+J29+J37+J45+J50+J77+J65+J69+J73+J81+J85+J89+J93 -> 37253558 | K8: =K9+K17+K25+K29+K37+K45+K50+K77+K65+K69+K73+K81+K85+K89+K93 -> -3334131 | L8: =L9+L17+L25+L29+L37+L45+L50+L77+L65+L69+L73+L81+L85+L89+L93 -> 33919427 | M8: =M9+M17+M25+M29+M37+M45+M50+M77+M65+M69+M73+M81+M85+M89+M93 -> 37253558 | N8: =N9+N17+N25+N29+N37+N45+N50+N77+N65+N69+N73+N81+N85+N89+N93 -> 0 | O8: =O9+O17+O25+O29+O37+O45+O50+O77+O65+O69+O73+O81+O85+O89+O93 -> 37253558
A9: Осуществление отдельных государственных полномочий Брянской области в сфере деятельности по профилактике безнадзорности и правонарушений несовершеннолетних, организации деятельности административных комиссий и определения перечня должностных лиц органов местного самоуправления, уполномоченных составлять протоколы об административных правонарушениях (осуществление отдельных государственных полномочий Брянской области в сфере деятельности по профилактике безнадзорности и правонарушений несовершеннолетних) | B9: 851 | C9: 01 | D9: 04 | E9: 51 4 01 12021 | G9: =G10+G14 -> 766676 | H9: =H10+H14 -> 0 | I9: =G9+H9 -> 766676 | J9: =J10+J14 -> 766676 | K9: =K10+K14 -> 0 | L9: =L10+L14 -> 766676 | M9: =M10+M14 -> 766676 | N9: =N10+N14 -> 0 | O9: =O10+O14 -> 766676
A10: Расходы на выплаты персоналу в целях обеспечения выполнения функций государственными (муниципальными) органами, казенными учреждениями, органами управления государственными внебюджетными фондами | B10: 851 | C10: 01 | D10: 04 | E10: 51 4 01 12021 | F10: 100 | G10: =G11 -> 747400 | H10: =H11 -> 0 | I10: =G10+H10 -> 747400 | J10: =J11 -> 747400 | K10: =K11 -> 0 | L10: =L11 -> 747400 | M10: =M11 -> 747400 | N10: =N11 -> 0 | O10: =O11 -> 747400
A11: Расходы на выплаты персоналу государственных (муниципальных) органов | B11: 851 | C11: 01 | D11: 04 | E11: 51 4 01 12021 | F11: 120 | G11: =G12+G13 -> 747400 | H11: =H12+H13 -> 0 | I11: =G11+H11 -> 747400 | J11: =J12+J13 -> 747400 | K11: =K12+K13 -> 0 | L11: =L12+L13 -> 747400 | M11: =M12+M13 -> 747400 | N11: =N12+N13 -> 0 | O11: =O12+O13 -> 747400
A12: Фонд оплаты труда государственных (муниципальных) органов | B12: 851 | C12: 01 | D12: 04 | E12: 51 4 01 12021 | F12: 121 | G12: 574100 | I12: =G12+H12 -> 574100 | J12: 574100 | L12: =J12+K12 -> 574100 | M12: 574100 | O12: =M12+N12 -> 574100
A13: Взносы по обязательному социальному страхованию на выплаты денежного содержания и иные выплаты работникам государственных (муниципальных) органов | B13: 851 | C13: 01 | D13: 04 | E13: 51 4 01 12021 | F13: 129 | G13: 173300 | I13: =G13+H13 -> 173300 | J13: 173300 | L13: =J13+K13 -> 173300 | M13: 173300 | O13: =M13+N13 -> 173300
A14: Закупка товаров, работ и услуг для обеспечения государственных (муниципальных) нужд | B14: 851 | C14: 01 | D14: 04 | E14: 51 4 01 12021 | F14: 200 | G14: =G15 -> 19276 | H14: =H15 -> 0 | I14: =G14+H14 -> 19276 | J14: =J15 -> 19276 | K14: =K15 -> 0 | L14: =L15 -> 19276 | M14: =M15 -> 19276 | N14: =N15 -> 0 | O14: =O15 -> 19276
A15: Иные закупки товаров, работ и услуг для обеспечения государственных (муниципальных) нужд | B15: 851 | C15: 01 | D15: 04 | E15: 51 4 01 12021 | F15: 240 | G15: =G16 -> 19276 | H15: =H16 -> 0 | I15: =G15+H15 -> 19276 | J15: =J16 -> 19276 | K15: =K16 -> 0 | L15: =L16 -> 19276 | M15: =M16 -> 19276 | N15: =N16 -> 0 | O15: =O16 -> 19276
A16: Прочая закупка товаров, работ и услуг | B16: 851 | C16: 01 | D16: 04 | E16: 51 4 01 12021 | F16: 244 | G16: 19276 | I16: =G16+H16 -> 19276 | J16: 19276 | L16: =J16+K16 -> 19276 | M16: 19276 | O16: =M16+N16 -> 19276
A17: Осуществление отдельных государственных полномочий Брянской области в сфере деятельности по профилактике безнадзорности и правонарушений несовершеннолетних, организации деятельности административных комиссий и определения перечня должностных лиц органов местного самоуправления, уполномоченных составлять протоколы об административных правонарушениях (осуществление отдельных государственных полномочий Брянской области по организации деятельности административных комиссий) | B17: 851 | C17: 01 | D17: 04 | E17: 51 4 01 12022 | G17: =G18+G22 -> 766676 | H17: =H18+H22 -> 0 | I17: =G17+H17 -> 766676 | J17: =J18+J22 -> 766676 | K17: =K18+K22 -> 0 | L17: =L18+L22 -> 766676 | M17: =M18+M22 -> 766676 | N17: =N18+N22 -> 0 | O17: =O18+O22 -> 766676
A18: Расходы на выплаты персоналу в целях обеспечения выполнения функций государственными (муниципальными) органами, казенными учреждениями, органами управления государственными внебюджетными фондами | B18: 851 | C18: 01 | D18: 04 | E18: 51 4 01 12022 | F18: 100 | G18: =G19 -> 704100 | H18: =H19 -> 0 | I18: =G18+H18 -> 704100 | J18: =J19 -> 704100 | K18: =K19 -> 0 | L18: =L19 -> 704100 | M18: =M19 -> 704100 | N18: =N19 -> 0 | O18: =O19 -> 704100
A19: Расходы на выплаты персоналу государственных (муниципальных) органов | B19: 851 | C19: 01 | D19: 04 | E19: 51 4 01 12022 | F19: 120 | G19: =G20+G21 -> 704100 | H19: =H20+H21 -> 0 | I19: =G19+H19 -> 704100 | J19: =J20+J21 -> 704100 | K19: =K20+K21 -> 0 | L19: =L20+L21 -> 704100 | M19: =M20+M21 -> 704100 | N19: =N20+N21 -> 0 | O19: =O20+O21 -> 704100
A20: Фонд оплаты труда государственных (муниципальных) органов | B20: 852 | C20: 01 | D20: 04 | E20: 51 4 01 12022 | F20: 121 | G20: 540800 | I20: =G20+H20 -> 540800 | J20: 540800 | L20: =J20+K20 -> 540800 | M20: 540800 | O20: =M20+N20 -> 540800
A21: Взносы по обязательному социальному страхованию на выплаты денежного содержания и иные выплаты работникам государственных (муниципальных) органов | B21: 852 | C21: 01 | D21: 04 | E21: 51 4 01 12022 | F21: 129 | G21: 163300 | I21: =G21+H21 -> 163300 | J21: 163300 | L21: =J21+K21 -> 163300 | M21: 163300 | O21: =M21+N21 -> 163300
A22: Закупка товаров, работ и услуг для обеспечения государственных (муниципальных) нужд | B22: 851 | C22: 01 | D22: 04 | E22: 51 4 01 12022 | F22: 200 | G22: =G23 -> 62576 | H22: =H23 -> 0 | I22: =G22+H22 -> 62576 | J22: =J23 -> 62576 | K22: =K23 -> 0 | L22: =L23 -> 62576 | M22: =M23 -> 62576 | N22: =N23 -> 0 | O22: =O23 -> 62576
A23: Иные закупки товаров, работ и услуг для обеспечения государственных (муниципальных) нужд | B23: 851 | C23: 01 | D23: 04 | E23: 51 4 01 12022 | F23: 240 | G23: =G24 -> 62576 | H23: =H24 -> 0 | I23: =G23+H23 -> 62576 | J23: =J24 -> 62576 | K23: =K24 -> 0 | L23: =L24 -> 62576 | M23: =M24 -> 62576 | N23: =N24 -> 0 | O23: =O24 -> 62576
A24: Прочая закупка товаров, работ и услуг | B24: 851 | C24: 01 | D24: 04 | E24: 51 4 01 12021 | F24: 244 | G24: 62576 | I24: =G24+H24 -> 62576 | J24: 62576 | L24: =J24+K24 -> 62576 | M24: 62576 | O24: =M24+N24 -> 62576
A25: Осуществление отдельных государственных полномочий Брянской области в сфере деятельности по профилактике безнадзорности и правонарушений несовершеннолетних, организации деятельности административных комиссий и определения перечня должностных лиц органов местного самоуправления, уполномоченных составлять протоколы об административных правонарушениях (осуществление отдельных государственных полномочий Брянской области по определению перечня должностных лиц органов местного самоуправления, уполномоченных составлять протоколы об административных правонарушениях) | B25: 851 | C25: 01 | D25: 04 | E25: 51 4 01 12023 | G25: =G26 -> 400 | H25: =H26 -> 0 | I25: =G25+H25 -> 400 | J25: =J26 -> 400 | K25: =K26 -> 0 | L25: =L26 -> 400 | M25: =M26 -> 400 | N25: =N26 -> 0 | O25: =O26 -> 400
A26: Закупка товаров, работ и услуг для обеспечения государственных (муниципальных) нужд | B26: 851 | C26: 01 | D26: 04 | E26: 51 4 01 12023 | F26: 200 | G26: =G27 -> 400 | H26: =H27 -> 0 | I26: =G26+H26 -> 400 | J26: =J27 -> 400 | K26: =K27 -> 0 | L26: =L27 -> 400 | M26: =M27 -> 400 | N26: =N27 -> 0 | O26: =O27 -> 400
A27: Иные закупки товаров, работ и услуг для обеспечения государственных (муниципальных) нужд | B27: 851 | C27: 01 | D27: 04 | E27: 51 4 01 12023 | F27: 240 | G27: =G28 -> 400 | H27: =H28 -> 0 | I27: =G27+H27 -> 400 | J27: =J28 -> 400 | K27: =K28 -> 0 | L27: =L28 -> 400 | M27: =M28 -> 400 | N27: =N28 -> 0 | O27: =O28 -> 400
A28: Прочая закупка товаров, работ и услуг | B28: 851 | C28: 01 | D28: 04 | E28: 51 4 01 12023 | F28: 244 | G28: 400 | I28: =G28+H28 -> 400 | J28: 400 | L28: =J28+K28 -> 400 | M28: 400 | O28: =M28+N28 -> 400
A29: Установление регулируемых тарифов на регулярные перевозки пассажиров и багажа автомобильным транспортом и городским наземным электрическим транспортом по муниципальным маршрутам регулярных перевозок | B29: 851 | C29: 01 | D29: 04 | E29: 51 4 01 17390 | G29: =G30+G34 -> 76668 | H29: =H30+H34 -> 0 | I29: =G29+H29 -> 76668 | J29: =J30+J34 -> 76668 | K29: =K30+K34 -> 0 | L29: =L30+L34 -> 76668 | M29: =M30+M34 -> 76668 | N29: =N30+N34 -> 0 | O29: =O30+O34 -> 76668
A30: Расходы на выплаты персоналу в целях обеспечения выполнения функций государственными (муниципальными) органами, казенными учреждениями, органами управления государственными внебюджетными фондами | B30: 851 | C30: 01 | D30: 04 | E30: 51 4 01 17390 | F30: 100 | G30: =G31 -> 54850 | H30: =H31 -> 0 | I30: =G30+H30 -> 54850 | J30: =J31 -> 54850 | K30: =K31 -> 0 | L30: =L31 -> 54850 | M30: =M31 -> 54850 | N30: =N31 -> 0 | O30: =O31 -> 54850
A31: Расходы на выплаты персоналу государственных (муниципальных) органов | B31: 851 | C31: 01 | D31: 04 | E31: 51 4 01 17390 | F31: 120 | G31: =G32+G33 -> 54850 | H31: =H32+H33 -> 0 | I31: =G31+H31 -> 54850 | J31: =J32+J33 -> 54850 | K31: =K32+K33 -> 0 | L31: =L32+L33 -> 54850 | M31: =M32+M33 -> 54850 | N31: =N32+N33 -> 0 | O31: =O32+O33 -> 54850
A32: Фонд оплаты труда государственных (муниципальных) органов | B32: 851 | C32: 01 | D32: 04 | E32: 51 4 01 17390 | F32: 121 | G32: 42128 | I32: =G32+H32 -> 42128 | J32: 42128 | L32: =J32+K32 -> 42128 | M32: 42128 | O32: =M32+N32 -> 42128
A33: Взносы по обязательному социальному страхованию на выплаты денежного содержания и иные выплаты работникам государственных (муниципальных) органов | B33: 851 | C33: 01 | D33: 04 | E33: 51 4 01 17390 | F33: 129 | G33: 12722 | I33: =G33+H33 -> 12722 | J33: 12722 | L33: =J33+K33 -> 12722 | M33: 12722 | O33: =M33+N33 -> 12722
A34: Закупка товаров, работ и услуг для обеспечения государственных (муниципальных) нужд | B34: 851 | C34: 01 | D34: 04 | E34: 51 4 01 17390 | F34: 200 | G34: =G35 -> 21818 | H34: =H35 -> 0 | I34: =G34+H34 -> 21818 | J34: =J35 -> 21818 | K34: =K35 -> 0 | L34: =L35 -> 21818 | M34: =M35 -> 21818 | N34: =N35 -> 0 | O34: =O35 -> 21818
A35: Иные закупки товаров, работ и услуг для обеспечения государственных (муниципальных) нужд | B35: 851 | C35: 01 | D35: 04 | E35: 51 4 01 17390 | F35: 240 | G35: =G36 -> 21818 | H35: =H36 -> 0 | I35: =G35+H35 -> 21818 | J35: =J36 -> 21818 | K35: =K36 -> 0 | L35: =L36 -> 21818 | M35: =M36 -> 21818 | N35: =N36 -> 0 | O35: =O36 -> 21818
A36: Прочая закупка товаров, работ и услуг | B36: 851 | C36: 01 | D36: 04 | E36: 51 4 01 17390 | F36: 244 | G36: 21818 | I36: =G36+H36 -> 21818 | J36: 21818 | L36: =J36+K36 -> 21818 | M36: 21818 | O36: =M36+N36 -> 21818
A37: Осуществление отдельных полномочий в области охраны труда и уведомительной регистрации территориальных соглашений и коллективных договоров | B37: 851 | C37: 01 | D37: 04 | E37: 51 4 01 17900 | G37: =G38+G42 -> 383338 | H37: =H38+H42 -> 0 | I37: =G37+H37 -> 383338 | J37: =J38+J42 -> 383338 | K37: =K38+K42 -> 0 | L37: =L38+L42 -> 383338 | M37: =M38+M42 -> 383338 | N37: =N38+N42 -> 0 | O37: =O38+O42 -> 383338
A38: Расходы на выплаты персоналу в целях обеспечения выполнения функций государственными (муниципальными) органами, казенными учреждениями, органами управления государственными внебюджетными фондами | B38: 851 | C38: 01 | D38: 04 | E38: 51 4 01 17900 | F38: 100 | G38: =G39 -> 288500 | H38: =H39 -> 0 | I38: =G38+H38 -> 288500 | J38: =J39 -> 288500 | K38: =K39 -> 0 | L38: =L39 -> 288500 | M38: =M39 -> 288500 | N38: =N39 -> 0 | O38: =O39 -> 288500
A39: Расходы на выплаты персоналу государственных (муниципальных) органов | B39: 851 | C39: 01 | D39: 04 | E39: 51 4 01 17900 | F39: 120 | G39: =G40+G41 -> 288500 | H39: =H40+H41 -> 0 | I39: =G39+H39 -> 288500 | J39: =J40+J41 -> 288500 | K39: =K40+K41 -> 0 | L39: =L40+L41 -> 288500 | M39: =M40+M41 -> 288500 | N39: =N40+N41 -> 0 | O39: =O40+O41 -> 288500
A40: Фонд оплаты труда государственных (муниципальных) органов | B40: 851 | C40: 01 | D40: 04 | E40: 51 4 01 17900 | F40: 121 | G40: 221600 | I40: =G40+H40 -> 221600 | J40: 221600 | L40: =J40+K40 -> 221600 | M40: 221600 | O40: =M40+N40 -> 221600
...

Sheet Расходы 
A1: Приложение 2 к пояснительной записке
A2: Изменение распределения бюджетных ассигнований по ведомственной структуре расходов бюджета Клетнянского муниципального района Брянской области на 2026 год и на плановый период 2027 и 2028 годов
A3: рублей
A4: Наименование | B4: ГРБС | C4: Рз | D4: Пр | E4: ЦСР | F4: ВР | G4: Предыдущее решение 2026 год | H4: Изменение 2026 год (+/-) | I4: Итог 2026 год | J4: Предыдущее решение 2026 год | K4: Изменение 2027 год (+/-) | L4: Итог 2027 год | M4: Предыдущее решение 2028 год | N4: Изменение 2028 год (+/-) | O4: Итог 2028 год
A5: 1 | B5: 2 | C5: 3 | D5: 4 | E5: 5 | F5: 6 | G5: 7 | H5: 8 | I5: 9 | J5: 10 | K5: 11 | L5: 12 | M5: 13 | N5: 14 | O5: 15
A6: Администрация Клетнянского района | B6: 851 | G6: =G7+G124+G134+G151+G195+G225+G235+G260+G315+G338 -> 4.304188e+08 | H6: =H7+H124+H134+H151+H195+H225+H235+H260+H315+H338 -> 6319298.4 | I6: =I7+I124+I134+I151+I195+I225+I235+I260+I315+I338 -> 4.367381e+08 | J6: =J7+J124+J134+J151+J195+J225+J235+J260+J315+J338 -> 1.8011994e+08 | K6: =K7+K124+K134+K151+K195+K225+K235+K260+K315+K338 -> 0 | L6: =L7+L124+L134+L151+L195+L225+L235+L260+L315+L338 -> 1.8011994e+08 | M6: =M7+M124+M134+M151+M195+M225+M235+M260+M315+M338 -> 1.4892004e+08 | N6: =N7+N124+N134+N151+N195+N225+N235+N260+N315+N338 -> 0 | O6: =O7+O124+O134+O151+O195+O225+O235+O260+O315+O338 -> 1.4892004e+08 | P6: =G6-'Расходы (2)'!I6 -> 0
A7: Общегосударственные вопросы | B7: 851 | C7: 01 | G7: =G8+G102+G107 -> 47809707 | H7: =H8+H102+H107 -> 861938.49 | I7: =I8+I102+I107 -> 48671645 | J7: =J8+J102+J107 -> 42654266 | K7: =K8+K102+K107 -> -3334131 | L7: =L8+L102+L107 -> 39320135 | M7: =M8+M102+M107 -> 42654620 | N7: =N8+N102+N107 -> 0 | O7: =O8+O102+O107 -> 42654620 | P7: =G7-'Расходы (2)'!I7 -> 0
A8: Функционирование Правительства Российской Федерации, высших исполнительных органов субъектов Российской Федерации, местных администраций | B8: 851 | C8: 01 | D8: 04 | G8: =G9+G17+G25+G29+G37+G45+G50+G77+G65+G69+G73+G81+G85+G89+G93+G97 -> 41786328 | H8: =H9+H17+H25+H29+H37+H45+H50+H77+H65+H69+H73+H81+H85+H89+H93+H97 -> 861938.49 | I8: =I9+I17+I25+I29+I37+I45+I50+I77+I65+I69+I73+I81+I85+I89+I93+I97 -> 42648266 | J8: =J9+J17+J25+J29+J37+J45+J50+J77+J65+J69+J73+J81+J85+J89+J93+J97 -> 37253558 | K8: =K9+K17+K25+K29+K37+K45+K50+K77+K65+K69+K73+K81+K85+K89+K93+K97 -> -3334131 | L8: =L9+L17+L25+L29+L37+L45+L50+L77+L65+L69+L73+L81+L85+L89+L93+L97 -> 33919427 | M8: =M9+M17+M25+M29+M37+M45+M50+M77+M65+M69+M73+M81+M85+M89+M93+M97 -> 37253558 | N8: =N9+N17+N25+N29+N37+N45+N50+N77+N65+N69+N73+N81+N85+N89+N93+N97 -> 0 | O8: =O9+O17+O25+O29+O37+O45+O50+O77+O65+O69+O73+O81+O85+O89+O93+O97 -> 37253558 | P8: =G8-'Расходы (2)'!I8 -> 0
A9: Осуществление отдельных государственных полномочий Брянской области в сфере деятельности по профилактике безнадзорности и правонарушений несовершеннолетних, организации деятельности административных комиссий и определения перечня должностных лиц органов местного самоуправления, уполномоченных составлять протоколы об административных правонарушениях (осуществление отдельных государственных полномочий Брянской области в сфере деятельности по профилактике безнадзорности и правонарушений несовершеннолетних) | B9: 851 | C9: 01 | D9: 04 | E9: 51 4 01 12021 | G9: =G10+G14 -> 766676 | H9: =H10+H14 -> 0 | I9: =G9+H9 -> 766676 | J9: =J10+J14 -> 766676 | K9: =K10+K14 -> 0 | L9: =L10+L14 -> 766676 | M9: =M10+M14 -> 766676 | N9: =N10+N14 -> 0 | O9: =O10+O14 -> 766676 | P9: =G9-'Расходы (2)'!I9 -> 0
A10: Расходы на выплаты персоналу в целях обеспечения выполнения функций государственными (муниципальными) органами, казенными учреждениями, органами управления государственными внебюджетными фондами | B10: 851 | C10: 01 | D10: 04 | E10: 51 4 01 12021 | F10: 100 | G10: =G11 -> 747400 | H10: =H11 -> 0 | I10: =G10+H10 -> 747400 | J10: =J11 -> 747400 | K10: =K11 -> 0 | L10: =L11 -> 747400 | M10: =M11 -> 747400 | N10: =N11 -> 0 | O10: =O11 -> 747400 | P10: =G10-'Расходы (2)'!I10 -> 0
A11: Расходы на выплаты персоналу государственных (муниципальных) органов | B11: 851 | C11: 01 | D11: 04 | E11: 51 4 01 12021 | F11: 120 | G11: =G12+G13 -> 747400 | H11: =H12+H13 -> 0 | I11: =G11+H11 -> 747400 | J11: =J12+J13 -> 747400 | K11: =K12+K13 -> 0 | L11: =L12+L13 -> 747400 | M11: =M12+M13 -> 747400 | N11: =N12+N13 -> 0 | O11: =O12+O13 -> 747400 | P11: =G11-'Расходы (2)'!I11 -> 0
A12: Фонд оплаты труда государственных (муниципальных) органов | B12: 851 | C12: 01 | D12: 04 | E12: 51 4 01 12021 | F12: 121 | G12: 574100 | I12: =G12+H12 -> 574100 | J12: 574100 | L12: =J12+K12 -> 574100 | M12: 574100 | O12: =M12+N12 -> 574100 | P12: =G12-'Расходы (2)'!I12 -> 0
A13: Взносы по обязательному социальному страхованию на выплаты денежного содержания и иные выплаты работникам государственных (муниципальных) органов | B13: 851 | C13: 01 | D13: 04 | E13: 51 4 01 12021 | F13: 129 | G13: 173300 | I13: =G13+H13 -> 173300 | J13: 173300 | L13: =J13+K13 -> 173300 | M13: 173300 | O13: =M13+N13 -> 173300 | P13: =G13-'Расходы (2)'!I13 -> 0
A14: Закупка товаров, работ и услуг для обеспечения государственных (муниципальных) нужд | B14: 851 | C14: 01 | D14: 04 | E14: 51 4 01 12021 | F14: 200 | G14: =G15 -> 19276 | H14: =H15 -> 0 | I14: =G14+H14 -> 19276 | J14: =J15 -> 19276 | K14: =K15 -> 0 | L14: =L15 -> 19276 | M14: =M15 -> 19276 | N14: =N15 -> 0 | O14: =O15 -> 19276 | P14: =G14-'Расходы (2)'!I14 -> 0
A15: Иные закупки товаров, работ и услуг для обеспечения государственных (муниципальных) нужд | B15: 851 | C15: 01 | D15: 04 | E15: 51 4 01 12021 | F15: 240 | G15: =G16 -> 19276 | H15: =H16 -> 0 | I15: =G15+H15 -> 19276 | J15: =J16 -> 19276 | K15: =K16 -> 0 | L15: =L16 -> 19276 | M15: =M16 -> 19276 | N15: =N16 -> 0 | O15: =O16 -> 19276 | P15: =G15-'Расходы (2)'!I15 -> 0
A16: Прочая закупка товаров, работ и услуг | B16: 851 | C16: 01 | D16: 04 | E16: 51 4 01 12021 | F16: 244 | G16: 19276 | I16: =G16+H16 -> 19276 | J16: 19276 | L16: =J16+K16 -> 19276 | M16: 19276 | O16: =M16+N16 -> 19276 | P16: =G16-'Расходы (2)'!I16 -> 0
A17: Осуществление отдельных государственных полномочий Брянской области в сфере деятельности по профилактике безнадзорности и правонарушений несовершеннолетних, организации деятельности административных комиссий и определения перечня должностных лиц органов местного самоуправления, уполномоченных составлять протоколы об административных правонарушениях (осуществление отдельных государственных полномочий Брянской области по организации деятельности административных комиссий) | B17: 851 | C17: 01 | D17: 04 | E17: 51 4 01 12022 | G17: =G18+G22 -> 766676 | H17: =H18+H22 -> 0 | I17: =G17+H17 -> 766676 | J17: =J18+J22 -> 766676 | K17: =K18+K22 -> 0 | L17: =L18+L22 -> 766676 | M17: =M18+M22 -> 766676 | N17: =N18+N22 -> 0 | O17: =O18+O22 -> 766676 | P17: =G17-'Расходы (2)'!I17 -> 0
A18: Расходы на выплаты персоналу в целях обеспечения выполнения функций государственными (муниципальными) органами, казенными учреждениями, органами управления государственными внебюджетными фондами | B18: 851 | C18: 01 | D18: 04 | E18: 51 4 01 12022 | F18: 100 | G18: =G19 -> 704100 | H18: =H19 -> 0 | I18: =G18+H18 -> 704100 | J18: =J19 -> 704100 | K18: =K19 -> 0 | L18: =L19 -> 704100 | M18: =M19 -> 704100 | N18: =N19 -> 0 | O18: =O19 -> 704100 | P18: =G18-'Расходы (2)'!I18 -> 0
A19: Расходы на выплаты персоналу государственных (муниципальных) органов | B19: 851 | C19: 01 | D19: 04 | E19: 51 4 01 12022 | F19: 120 | G19: =G20+G21 -> 704100 | H19: =H20+H21 -> 0 | I19: =G19+H19 -> 704100 | J19: =J20+J21 -> 704100 | K19: =K20+K21 -> 0 | L19: =L20+L21 -> 704100 | M19: =M20+M21 -> 704100 | N19: =N20+N21 -> 0 | O19: =O20+O21 -> 704100 | P19: =G19-'Расходы (2)'!I19 -> 0
A20: Фонд оплаты труда государственных (муниципальных) органов | B20: 852 | C20: 01 | D20: 04 | E20: 51 4 01 12022 | F20: 121 | G20: 540800 | I20: =G20+H20 -> 540800 | J20: 540800 | L20: =J20+K20 -> 540800 | M20: 540800 | O20: =M20+N20 -> 540800 | P20: =G20-'Расходы (2)'!I20 -> 0
A21: Взносы по обязательному социальному страхованию на выплаты денежного содержания и иные выплаты работникам государственных (муниципальных) органов | B21: 852 | C21: 01 | D21: 04 | E21: 51 4 01 12022 | F21: 129 | G21: 163300 | I21: =G21+H21 -> 163300 | J21: 163300 | L21: =J21+K21 -> 163300 | M21: 163300 | O21: =M21+N21 -> 163300 | P21: =G21-'Расходы (2)'!I21 -> 0
A22: Закупка товаров, работ и услуг для обеспечения государственных (муниципальных) нужд | B22: 851 | C22: 01 | D22: 04 | E22: 51 4 01 12022 | F22: 200 | G22: =G23 -> 62576 | H22: =H23 -> 0 | I22: =G22+H22 -> 62576 | J22: =J23 -> 62576 | K22: =K23 -> 0 | L22: =L23 -> 62576 | M22: =M23 -> 62576 | N22: =N23 -> 0 | O22: =O23 -> 62576 | P22: =G22-'Расходы (2)'!I22 -> 0
A23: Иные закупки товаров, работ и услуг для обеспечения государственных (муниципальных) нужд | B23: 851 | C23: 01 | D23: 04 | E23: 51 4 01 12022 | F23: 240 | G23: =G24 -> 62576 | H23: =H24 -> 0 | I23: =G23+H23 -> 62576 | J23: =J24 -> 62576 | K23: =K24 -> 0 | L23: =L24 -> 62576 | M23: =M24 -> 62576 | N23: =N24 -> 0 | O23: =O24 -> 62576 | P23: =G23-'Расходы (2)'!I23 -> 0
A24: Прочая закупка товаров, работ и услуг | B24: 851 | C24: 01 | D24: 04 | E24: 51 4 01 12021 | F24: 244 | G24: 62576 | I24: =G24+H24 -> 62576 | J24: 62576 | L24: =J24+K24 -> 62576 | M24: 62576 | O24: =M24+N24 -> 62576 | P24: =G24-'Расходы (2)'!I24 -> 0
A25: Осуществление отдельных государственных полномочий Брянской области в сфере деятельности по профилактике безнадзорности и правонарушений несовершеннолетних, организации деятельности административных комиссий и определения перечня должностных лиц органов местного самоуправления, уполномоченных составлять протоколы об административных правонарушениях (осуществление отдельных государственных полномочий Брянской области по определению перечня должностных лиц органов местного самоуправления, уполномоченных составлять протоколы об административных правонарушениях) | B25: 851 | C25: 01 | D25: 04 | E25: 51 4 01 12023 | G25: =G26 -> 400 | H25: =H26 -> 0 | I25: =G25+H25 -> 400 | J25: =J26 -> 400 | K25: =K26 -> 0 | L25: =L26 -> 400 | M25: =M26 -> 400 | N25: =N26 -> 0 | O25: =O26 -> 400 | P25: =G25-'Расходы (2)'!I25 -> 0
A26: Закупка товаров, работ и услуг для обеспечения государственных (муниципальных) нужд | B26: 851 | C26: 01 | D26: 04 | E26: 51 4 01 12023 | F26: 200 | G26: =G27 -> 400 | H26: =H27 -> 0 | I26: =G26+H26 -> 400 | J26: =J27 -> 400 | K26: =K27 -> 0 | L26: =L27 -> 400 | M26: =M27 -> 400 | N26: =N27 -> 0 | O26: =O27 -> 400 | P26: =G26-'Расходы (2)'!I26 -> 0
A27: Иные закупки товаров, работ и услуг для обеспечения государственных (муниципальных) нужд | B27: 851 | C27: 01 | D27: 04 | E27: 51 4 01 12023 | F27: 240 | G27: =G28 -> 400 | H27: =H28 -> 0 | I27: =G27+H27 -> 400 | J27: =J28 -> 400 | K27: =K28 -> 0 | L27: =L28 -> 400 | M27: =M28 -> 400 | N27: =N28 -> 0 | O27: =O28 -> 400 | P27: =G27-'Расходы (2)'!I27 -> 0
A28: Прочая закупка товаров, работ и услуг | B28: 851 | C28: 01 | D28: 04 | E28: 51 4 01 12023 | F28: 244 | G28: 400 | I28: =G28+H28 -> 400 | J28: 400 | L28: =J28+K28 -> 400 | M28: 400 | O28: =M28+N28 -> 400 | P28: =G28-'Расходы (2)'!I28 -> 0
A29: Установление регулируемых тарифов на регулярные перевозки пассажиров и багажа автомобильным транспортом и городским наземным электрическим транспортом по муниципальным маршрутам регулярных перевозок | B29: 851 | C29: 01 | D29: 04 | E29: 51 4 01 17390 | G29: =G30+G34 -> 76668 | H29: =H30+H34 -> 0 | I29: =G29+H29 -> 76668 | J29: =J30+J34 -> 76668 | K29: =K30+K34 -> 0 | L29: =L30+L34 -> 76668 | M29: =M30+M34 -> 76668 | N29: =N30+N34 -> 0 | O29: =O30+O34 -> 76668 | P29: =G29-'Расходы (2)'!I29 -> 0
A30: Расходы на выплаты персоналу в целях обеспечения выполнения функций государственными (муниципальными) органами, казенными учреждениями, органами управления государственными внебюджетными фондами | B30: 851 | C30: 01 | D30: 04 | E30: 51 4 01 17390 | F30: 100 | G30: =G31 -> 54850 | H30: =H31 -> 0 | I30: =G30+H30 -> 54850 | J30: =J31 -> 54850 | K30: =K31 -> 0 | L30: =L31 -> 54850 | M30: =M31 -> 54850 | N30: =N31 -> 0 | O30: =O31 -> 54850 | P30: =G30-'Расходы (2)'!I30 -> 0
A31: Расходы на выплаты персоналу государственных (муниципальных) органов | B31: 851 | C31: 01 | D31: 04 | E31: 51 4 01 17390 | F31: 120 | G31: =G32+G33 -> 54850 | H31: =H32+H33 -> 0 | I31: =G31+H31 -> 54850 | J31: =J32+J33 -> 54850 | K31: =K32+K33 -> 0 | L31: =L32+L33 -> 54850 | M31: =M32+M33 -> 54850 | N31: =N32+N33 -> 0 | O31: =O32+O33 -> 54850 | P31: =G31-'Расходы (2)'!I31 -> 0
A32: Фонд оплаты труда государственных (муниципальных) органов | B32: 851 | C32: 01 | D32: 04 | E32: 51 4 01 17390 | F32: 121 | G32: 42128 | I32: =G32+H32 -> 42128 | J32: 42128 | L32: =J32+K32 -> 42128 | M32: 42128 | O32: =M32+N32 -> 42128 | P32: =G32-'Расходы (2)'!I32 -> 0
A33: Взносы по обязательному социальному страхованию на выплаты денежного содержания и иные выплаты работникам государственных (муниципальных) органов | B33: 851 | C33: 01 | D33: 04 | E33: 51 4 01 17390 | F33: 129 | G33: 12722 | I33: =G33+H33 -> 12722 | J33: 12722 | L33: =J33+K33 -> 12722 | M33: 12722 | O33: =M33+N33 -> 12722 | P33: =G33-'Расходы (2)'!I33 -> 0
A34: Закупка товаров, работ и услуг для обеспечения государственных (муниципальных) нужд | B34: 851 | C34: 01 | D34: 04 | E34: 51 4 01 17390 | F34: 200 | G34: =G35 -> 21818 | H34: =H35 -> 0 | I34: =G34+H34 -> 21818 | J34: =J35 -> 21818 | K34: =K35 -> 0 | L34: =L35 -> 21818 | M34: =M35 -> 21818 | N34: =N35 -> 0 | O34: =O35 -> 21818 | P34: =G34-'Расходы (2)'!I34 -> 0
A35: Иные закупки товаров, работ и услуг для обеспечения государственных (муниципальных) нужд | B35: 851 | C35: 01 | D35: 04 | E35: 51 4 01 17390 | F35: 240 | G35: =G36 -> 21818 | H35: =H36 -> 0 | I35: =G35+H35 -> 21818 | J35: =J36 -> 21818 | K35: =K36 -> 0 | L35: =L36 -> 21818 | M35: =M36 -> 21818 | N35: =N36 -> 0 | O35: =O36 -> 21818 | P35: =G35-'Расходы (2)'!I35 -> 0
A36: Прочая закупка товаров, работ и услуг | B36: 851 | C36: 01 | D36: 04 | E36: 51 4 01 17390 | F36: 244 | G36: 21818 | I36: =G36+H36 -> 21818 | J36: 21818 | L36: =J36+K36 -> 21818 | M36: 21818 | O36: =M36+N36 -> 21818 | P36: =G36-'Расходы (2)'!I36 -> 0
A37: Осуществление отдельных полномочий в области охраны труда и уведомительной регистрации территориальных соглашений и коллективных договоров | B37: 851 | C37: 01 | D37: 04 | E37: 51 4 01 17900 | G37: =G38+G42 -> 383338 | H37: =H38+H42 -> 0 | I37: =G37+H37 -> 383338 | J37: =J38+J42 -> 383338 | K37: =K38+K42 -> 0 | L37: =L38+L42 -> 383338 | M37: =M38+M42 -> 383338 | N37: =N38+N42 -> 0 | O37: =O38+O42 -> 383338 | P37: =G37-'Расходы (2)'!I37 -> 0
A38: Расходы на выплаты персоналу в целях обеспечения выполнения функций государственными (муниципальными) органами, казенными учреждениями, органами управления государственными внебюджетными фондами | B38: 851 | C38: 01 | D38: 04 | E38: 51 4 01 17900 | F38: 100 | G38: =G39 -> 288500 | H38: =H39 -> 0 | I38: =G38+H38 -> 288500 | J38: =J39 -> 288500 | K38: =K39 -> 0 | L38: =L39 -> 288500 | M38: =M39 -> 288500 | N38: =N39 -> 0 | O38: =O39 -> 288500 | P38: =G38-'Расходы (2)'!I38 -> 0
A39: Расходы на выплаты персоналу государственных (муниципальных) органов | B39: 851 | C39: 01 | D39: 04 | E39: 51 4 01 17900 | F39: 120 | G39: =G40+G41 -> 288500 | H39: =H40+H41 -> 0 | I39: =G39+H39 -> 288500 | J39: =J40+J41 -> 288500 | K39: =K40+K41 -> 0 | L39: =L40+L41 -> 288500 | M39: =M40+M41 -> 288500 | N39: =N40+N41 -> 0 | O39: =O40+O41 -> 288500 | P39: =G39-'Расходы (2)'!I39 -> 0
A40: Фонд оплаты труда государственных (муниципальных) органов | B40: 851 | C40: 01 | D40: 04 | E40: 51 4 01 17900 | F40: 121 | G40: 221600 | I40: =G40+H40 -> 221600 | J40: 221600 | L40: =J40+K40 -> 221600 | M40: 221600 | O40: =M40+N40 -> 221600 | P40: =G40-'Расходы (2)'!I40 -> 0
...

Sheet Лист1
