Workbook

Sheet 3.ВС (2)
H1: Приложение 3
H2: к Решению Клетнянского районного Совета народных депутатов "О бюджете Клетнянского муниципального района Брянской области на 2026 год и на плановый период 2027 и 2028 годов
A3: Ведомственная структура расходов бюджета Клетнянского муниципального района Брянской области на 2026 год и на плановый период 2027 и 2028 годов
L4: рублей
A5: Наименование | E5: Гл | F5: Рз | G5: Пр | H5: ЦСР | I5: ВР | J5: 2026 год | K5: 2027 год | L5: 2028 год
A7: Администрация Клетнянского района | E7: 851 | J7: =J8+J84+J91+J103+J136+J148+J153+J167+J204+J218 -> 1.5841859e+08 | K7: =K8+K84+K91+K103+K136+K148+K153+K167+K204+K218 -> 1.7946826e+08 | L7: =L8+L84+L91+L103+L136+L148+L153+L167+L204+L218 -> 1.4674778e+08
A8: Общегосударственные вопросы | E8: 851 | F8: 01 | J8: =J9+J67+J71 -> 47265937 | K8: =K9+K67+K71 -> 42654266 | L8: =L9+L67+L71 -> 42654620
A9: Функционирование Правительства Российской Федерации, высших исполнительных органов субъектов Российской Федерации, местных администраций | E9: 851 | F9: 01 | G9: 04 | J9: =J10+J15+J20+J23+J28+J33+J36+J52+J43+J46+J49+J55+J58+J61+J64 -> 41242558 | K9: =K10+K15+K20+K23+K28+K33+K36+K52+K43+K46+K49+K55+K58+K61+K64 -> 37253558 | L9: =L10+L15+L20+L23+L28+L33+L36+L52+L43+L46+L49+L55+L58+L61+L64 -> 37253558
A10: Осуществление отдельных государственных полномочий Брянской области в сфере деятельности по профилактике безнадзорности и правонарушений несовершеннолетних, организации деятельности административных комиссий и определения перечня должностных лиц органов местного самоуправления, уполномоченных составлять протоколы об административных правонарушениях (осуществление отдельных государственных полномочий Брянской области в сфере деятельности по профилактике безнадзорности и правонарушений несовершеннолетних) | E10: 851 | F10: 01 | G10: 04 | H10: 51 4 01 12021 | J10: =J11+J13 -> 766676 | K10: =K11+K13 -> 766676 | L10: =L11+L13 -> 766676
A11: Расходы на выплаты персоналу в целях обеспечения выполнения функций государственными (муниципальными) органами, казенными учреждениями, органами управления государственными внебюджетными фондами | E11: 851 | F11: 01 | G11: 04 | H11: 51 4 01 12021 | I11: 100 | J11: =J12 -> 747400 | K11: =K12 -> 747400 | L11: =L12 -> 747400
A12: Расходы на выплаты персоналу государственных (муниципальных) органов | E12: 851 | F12: 01 | G12: 04 | H12: 51 4 01 12021 | I12: 120 | J12: 747400 | K12: 747400 | L12: 747400
A13: Закупка товаров, работ и услуг для обеспечения государственных (муниципальных) нужд | E13: 851 | F13: 01 | G13: 04 | H13: 51 4 01 12021 | I13: 200 | J13: =J14 -> 19276 | K13: =K14 -> 19276 | L13: =L14 -> 19276
A14: Иные закупки товаров, работ и услуг для обеспечения государственных (муниципальных) нужд | E14: 851 | F14: 01 | G14: 04 | H14: 51 4 01 12021 | I14: 240 | J14: 19276 | K14: 19276 | L14: 19276
A15: Осуществление отдельных государственных полномочий Брянской области в сфере деятельности по профилактике безнадзорности и правонарушений несовершеннолетних, организации деятельности административных комиссий и определения перечня должностных лиц органов местного самоуправления, уполномоченных составлять протоколы об административных правонарушениях (осуществление отдельных государственных полномочий Брянской области по организации деятельности административных комиссий) | E15: 851 | F15: 01 | G15: 04 | H15: 51 4 01 12022 | J15: =J16+J18 -> 766676 | K15: =K16+K18 -> 766676 | L15: =L16+L18 -> 766676
A16: Расходы на выплаты персоналу в целях обеспечения выполнения функций государственными (муниципальными) органами, казенными учреждениями, органами управления государственными внебюджетными фондами | E16: 851 | F16: 01 | G16: 04 | H16: 51 4 01 12022 | I16: 100 | J16: =J17 -> 704100 | K16: =K17 -> 704100 | L16: =L17 -> 704100
A17: Расходы на выплаты персоналу государственных (муниципальных) органов | E17: 851 | F17: 01 | G17: 04 | H17: 51 4 01 12022 | I17: 120 | J17: 704100 | K17: 704100 | L17: 704100
A18: Закупка товаров, работ и услуг для обеспечения государственных (муниципальных) нужд | E18: 851 | F18: 01 | G18: 04 | H18: 51 4 01 12022 | I18: 200 | J18: =J19 -> 62576 | K18: =K19 -> 62576 | L18: =L19 -> 62576
A19: Иные закупки товаров, работ и услуг для обеспечения государственных (муниципальных) нужд | E19: 851 | F19: 01 | G19: 04 | H19: 51 4 01 12022 | I19: 240 | J19: 62576 | K19: 62576 | L19: 62576
A20: Осуществление отдельных государственных полномочий Брянской области в сфере деятельности по профилактике безнадзорности и правонарушений несовершеннолетних, организации деятельности административных комиссий и определения перечня должностных лиц органов местного самоуправления, уполномоченных составлять протоколы об административных правонарушениях (осуществление отдельных государственных полномочий Брянской области по определению перечня должностных лиц органов местного самоуправления, уполномоченных составлять протоколы об административных правонарушениях) | E20: 851 | F20: 01 | G20: 04 | H20: 51 4 01 12023 | J20: =J21 -> 400 | K20: =K21 -> 400 | L20: =L21 -> 400
A21: Закупка товаров, работ и услуг для обеспечения государственных (муниципальных) нужд | E21: 851 | F21: 01 | G21: 04 | H21: 51 4 01 12023 | I21: 200 | J21: =J22 -> 400 | K21: =K22 -> 400 | L21: =L22 -> 400
A22: Иные закупки товаров, работ и услуг для обеспечения государственных (муниципальных) нужд | E22: 851 | F22: 01 | G22: 04 | H22: 51 4 01 12023 | I22: 240 | J22: 400 | K22: 400 | L22: 400
A23: Установление регулируемых тарифов на регулярные перевозки пассажиров и багажа автомобильным транспортом и городским наземным электрическим транспортом по муниципальным маршрутам регулярных перевозок | E23: 851 | F23: 01 | G23: 04 | H23: 51 4 01 17390 | J23: =J24+J26 -> 76668 | K23: =K24+K26 -> 76668 | L23: =L24+L26 -> 76668
A24: Расходы на выплаты персоналу в целях обеспечения выполнения функций государственными (муниципальными) органами, казенными учреждениями, органами управления государственными внебюджетными фондами | E24: 851 | F24: 01 | G24: 04 | H24: 51 4 01 17390 | I24: 100 | J24: =J25 -> 54850 | K24: =K25 -> 54850 | L24: =L25 -> 54850
A25: Расходы на выплаты персоналу государственных (муниципальных) органов | E25: 851 | F25: 01 | G25: 04 | H25: 51 4 01 17390 | I25: 120 | J25: 54850 | K25: 54850 | L25: 54850
A26: Закупка товаров, работ и услуг для обеспечения государственных (муниципальных) нужд | E26: 851 | F26: 01 | G26: 04 | H26: 51 4 01 17390 | I26: 200 | J26: =J27 -> 21818 | K26: =K27 -> 21818 | L26: =L27 -> 21818
A27: Иные закупки товаров, работ и услуг для обеспечения государственных (муниципальных) нужд | E27: 851 | F27: 01 | G27: 04 | H27: 51 4 01 17390 | I27: 240 | J27: 21818 | K27: 21818 | L27: 21818
A28: Осуществление отдельных полномочий в области охраны труда и уведомительной регистрации территориальных соглашений и коллективных договоров | E28: 851 | F28: 01 | G28: 04 | H28: 51 4 01 17900 | J28: =J29+J31 -> 383338 | K28: =K29+K31 -> 383338 | L28: =L29+L31 -> 383338
A29: Расходы на выплаты персоналу в целях обеспечения выполнения функций государственными (муниципальными) органами, казенными учреждениями, органами управления государственными внебюджетными фондами | E29: 851 | F29: 01 | G29: 04 | H29: 51 4 01 17900 | I29: 100 | J29: =J30 -> 288500 | K29: =K30 -> 288500 | L29: =L30 -> 288500
A30: Расходы на выплаты персоналу государственных (муниципальных) органов | E30: 851 | F30: 01 | G30: 04 | H30: 51 4 01 17900 | I30: 120 | J30: 288500 | K30: 288500 | L30: 288500
A31: Закупка товаров, работ и услуг для обеспечения государственных (муниципальных) нужд | E31: 851 | F31: 01 | G31: 04 | H31: 51 4 01 17900 | I31: 200 | J31: =J32 -> 94838 | K31: =K32 -> 94838 | L31: =L32 -> 94838
A32: Иные закупки товаров, работ и услуг для обеспечения государственных (муниципальных) нужд | E32: 851 | F32: 01 | G32: 04 | H32: 51 4 01 17900 | I32: 240 | J32: 94838 | K32: 94838 | L32: 94838
A33: Обеспечение деятельности главы местной администрации (исполнительно-распорядительного органа муниципального образования) | E33: 851 | F33: 01 | G33: 04 | H33: 51 4 01 80020 | J33: =J34 -> 2348200 | K33: =K34 -> 2348200 | L33: =L34 -> 2348200
A34: Расходы на выплаты персоналу в целях обеспечения выполнения функций государственными (муниципальными) органами, казенными учреждениями, органами управления государственными внебюджетными фондами | E34: 851 | F34: 01 | G34: 04 | H34: 51 4 01 80020 | I34: 100 | J34: =J35 -> 2348200 | K34: =K35 -> 2348200 | L34: =L35 -> 2348200
A35: Расходы на выплаты персоналу государственных (муниципальных) органов | E35: 851 | F35: 01 | G35: 04 | H35: 51 4 01 80020 | I35: 120 | J35: 2348200 | K35: 2348200 | L35: 2348200
A36: Руководство и управление в сфере установленных функций органов местного самоуправления | E36: 851 | F36: 01 | G36: 04 | H36: 51 4 01 80040 | J36: =J37+J39+J41 -> 36616200 | K36: =K37+K39+K41 -> 32905200 | L36: =L37+L39+L41 -> 32905200
A37: Расходы на выплаты персоналу в целях обеспечения выполнения функций государственными (муниципальными) органами, казенными учреждениями, органами управления государственными внебюджетными фондами | E37: 851 | F37: 01 | G37: 04 | H37: 51 4 01 80040 | I37: 100 | J37: =J38 -> 31483200 | K37: =K38 -> 30067600 | L37: =L38 -> 30067600
A38: Расходы на выплаты персоналу государственных (муниципальных) органов | E38: 851 | F38: 01 | G38: 04 | H38: 51 4 01 80040 | I38: 120 | J38: 31483200 | K38: 30067600 | L38: 30067600
A39: Закупка товаров, работ и услуг для обеспечения государственных (муниципальных) нужд | E39: 851 | F39: 01 | G39: 04 | H39: 51 4 01 80040 | I39: 200 | J39: =J40 -> 5034700 | K39: =K40 -> 2739300 | L39: =L40 -> 2739300
A40: Иные закупки товаров, работ и услуг для обеспечения государственных (муниципальных) нужд | E40: 851 | F40: 01 | G40: 04 | H40: 51 4 01 80040 | I40: 240 | J40: 5034700 | K40: 2739300 | L40: 2739300
A41: Иные бюджетные ассигнования | E41: 851 | F41: 01 | G41: 04 | H41: 51 4 01 80040 | I41: 800 | J41: =J42 -> 98300 | K41: =K42 -> 98300 | L41: =L42 -> 98300
...

Sheet 1.Дох
C1: Приложение 1
C2: к Решению Клетнянского районного Совета народных депутатов "О внесении изменений в Решение Клетнянского районного Совета народных депутатов "О бюджете Клетнянского муниципального района Брянской области на 2026 год и на плановый период 2027 и 2028 годов"
C3: Приложение 1.3.
C4: к Решению Клетнянского районного Совета народных депутатов "О бюджете Клетнянского муниципального района Брянской области на 2026 год и на плановый период 2027 и 2028 годов"
A5: Изменение доходов бюджета Клетнянского муниципального района Брянской области на 2026 год и на плановый период 2027и 2028 годов
E6: рублей
A7: Код бюджетной классификации Российской Федерации | B7: Наименование доходов | C7: 2026 | D7: 2027 | E7: 2028
A8: 1 | B8: 2
A9: 1 00 00000 00 0000 000 | B9: НАЛОГОВЫЕ И НЕНАЛОГОВЫЕ ДОХОДЫ | C9: 0 | D9: 0 | E9: 0
A10: 2 00 00000 00 0000 000 | B10: БЕЗВОЗМЕЗДНЫЕ ПОСТУПЛЕНИЯ | C10: =C11+C81+C83+C88 -> 6611366.3 | D10: =D11+D83+D88 -> 0 | E10: =E11+E83+E88 -> 0
A11: 2 02 00000 00 0000 000 | B11: Безвозмездные поступления от других бюджетов бюджетной системы Российской Федерации | C11: =C12+C17+C49+C67 -> 6611366.3 | D11: =D12+D17+D49+D67 -> 0 | E11: =E12+E17+E49+E67 -> 0
A12: 2 02 10000 00 0000 150 | B12: Дотации бюджетам бюджетной системы Российской Федерации | C12: =C13+C15 -> 10600000 | D12: =D13+D15 -> 0 | E12: =E13+E15 -> 0
A13: 2 02 15001 00 0000 150 | B13: Дотации на выравнивание бюджетной обеспеченности | C13: =C14 -> 0 | D13: =D14 -> 0 | E13: =E14 -> 0
A14: 2 02 15001 05 0000 150 | B14: Дотации бюджетам муниципальных районов на выравнивание бюджетной обеспеченности из бюджета субъекта Российской Федерации
A15: 2 02 15002 00 0000 150 | B15: Дотации бюджетам на поддержку мер по обеспечению сбалансированности бюджетов | C15: =C16 -> 10600000 | D15: =D16 -> 0 | E15: =E16 -> 0
A16: 2 02 15002 05 0000 150 | B16: Дотации бюджетам муниципальных районов на поддержку мер по обеспечению сбалансированности бюджетов | C16: 10600000 | D16: 0 | E16: 0
A17: 2 02 20000 00 0000 150 | B17: Субсидии бюджетам бюджетной системы Российской Федерации (межбюджетные субсидии) | C17: =C18+C22++C30+C40+C28+C26+C21+C38+C24+C32++C34+C36 -> -5091213.7 | D17: =D18+D22+D40+D28+D26+D21+D38+D24+D32+D36 -> 0 | E17: =E18+E22+E40+E28+E26+E21+E38+E24+E32+E36 -> 0
A18: 2 02 20077 00 0000 150 | B18: Субсидии бюджетам на софинансирование капитальных вложений в объекты муниципальной собственности | C18: =C19 -> -5091213.7 | D18: 0 | E18: 0
A19: 2 02 20077 05 0000 150 | B19: Субсидии бюджетам муниципальных районов на софинансирование капитальных вложений в объекты муниципальной собственности | C19: -5091213.7 | D19: 0 | E19: 0
A20: 2 02 25304 00 0000 150 | B20: Субсидии бюджетам на организацию бесплатного горячего питания обучающихся, получающих начальное общее образование в государственных и муниципальных образовательных организациях | C20: =C21 -> 0 | D20: =D21 -> 0 | E20: =E21 -> 0
A21: 2 02 25304 05 0000 150 | B21: Субсидии бюджетам муниципальных районов на организацию бесплатного горячего питания обучающихся, получающих начальное общее образование в государственных и муниципальных образовательных организациях
A22: 2 02 25348 00 0000 150 | B22: Субсидии бюджетам на модернизацию региональных и муниципальных библиотек | C22: =C23 -> 0 | D22: =D23 -> 0 | E22: =E23 -> 0
A23: 2 02 25348 05 0000 150 | B23: Субсидии бюджетам муниципальных районов на модернизацию региональных и муниципальных библиотек | C23: 0 | D23: 0
A24: 2 02 25372 00 0000 150 | B24: Субсидии бюджетам на развитие транспортной инфраструктуры на сельских территориях | C24: =C25 -> 0 | D24: =D25 -> 0 | E24: =E25 -> 0
A25: 2 02 25372 05 0000 150 | B25: Субсидии бюджетам муниципальных районов на развитие транспортной инфраструктуры на сельских территориях | C25: 0 | D25: 0 | E25: 0
A26: 2 02 25467 00 0000 150 | B26: Субсидии бюджетам на обеспечение развития и укрепления материально-технической базы домов культуры в населенных пунктах с числом жителей до 50 тысяч человек | C26: =C27 -> 0 | D26: =D27 -> 0 | E26: =E27 -> 0
A27: 2 02 25467 05 0000 150 | B27: Субсидии бюджетам муниципальных районов на обеспечение развития и укрепления материально-технической базы домов культуры в населенных пунктах с числом жителей до 50 тысяч человек
A28: 2 02 25497 00 0000 150 | B28: Субсидии бюджетам на реализацию мероприятий по обеспечению жильем молодых семей | C28: =C29 -> 0 | D28: =D29 -> 0 | E28: =E29 -> 0
A29: 2 02 25497 05 0000 150 | B29: Субсидии бюджетам муниципальных районов на реализацию мероприятий по обеспечению жильем молодых семей | C29: 0
A30: 2 02 25513 00 0000 150 | B30: Субсидия бюджетам на развитие сети учреждений культурно- досугового типа | C30: =C31 -> 0 | D30: =D31 -> 0 | E30: =E31 -> 0
A31: 2 02 25513 05 0000 150 | B31: Субсидия бюджетам муниципальных районов на развитие сети учреждений культурно- досугового типа | C31: 0 | D31: 0 | E31: 0
A32: 2 02 25519 00 0000 150 | B32: Субсидия бюджетам на поддержку отрасли культуры | C32: =C33 -> 0 | D32: =D33 -> 0 | E32: =E33 -> 0
A33: 2 02 25519 05 0000 150 | B33: Субсидия бюджетам муниципальных районов на поддержку отрасли культуры | C33: 0 | D33: 0 | E33: 0
A34: 2 02 25590 00 0000 150 | B34: Субсидии бюджетам на техническое оснащение региональных и муниципальных музеев | C34: =C35 -> 0 | D34: =D35 -> 0 | E34: =E35 -> 0
A35: 2 02 25590 05 0000 150 | B35: Субсидия бюджетам муниципальных районов на на техническое оснащение региональных и муниципальных музеев | C35: 0
A36: 2 02 25753 00 0000 150 | B36: Субсидии бюджетам на софинансирование закупки и монтажа оборудования для создания "умных" спортивных площадок | C36: =C37 -> 0 | D36: =D37 -> 0 | E36: =E37 -> 0
A37: 2 02 25753 05 0000 150 | B37: Субсидии бюджетам муниципальных районов на софинансирование закупки и монтажа оборудования для создания "умных" спортивных площадок
A38: 2 02 27139 00 0000 150 | B38: Субсидии бюджетам на софинансирование капитальных вложений в объекты государственной (муниципальной) собственности в рамках создания и модернизации объектов спортивной инфраструктуры региональной собственности (муниципальной собственности) для занятий физической культурой и спортом | C38: =C39 -> 0 | D38: =D39 -> 0 | E38: =E39 -> 0
A39: 2 02 27139 05 0000 150 | B39: Субсидии бюджетам муниципальных районов на софинансирование капитальных вложений в объекты государственной (муниципальной) собственности в рамках создания и модернизации объектов спортивной инфраструктуры региональной собственности (муниципальной собственности) для занятий физической культурой и спортом | C39: 0
A40: 2 02 29999 00 0000 150 | B40: Прочие субсидии | C40: =C41 -> 0 | D40: =D41 -> 0 | E40: =E41 -> 0
...

Sheet 3.ВС
H1: Приложение 2
H2: к Решению Клетнянского районного Совета народных депутатов "О внесении изменений в Решение Клетнянского районного Совета народных депутатов "О бюджете Клетнянского муниципального района Брянской области на 2026 год и на плановый период 2027 и 2028 годов"
H3: Приложение 3.3.
H4: к Решению Клетнянского районного Совета народных депутатов "О бюджете Клетнянского муниципального района Брянской области на 2026 год и на плановый период 2027 и 2028 годов
A7: =UPPER(A8) -> ВЕДОМСТВЕННАЯ СТРУКТУРА РАСХОДОВ БЮДЖЕТА КЛЕТНЯНСКОГО МУНИЦИПАЛЬНОГО РАЙОНА БРЯНСКОЙ ОБЛАСТИ НА 2026 ГОД И НА ПЛАНОВЫЙ ПЕРИОД 2027 И 2028 ГОДОВ
A8: Ведомственная структура расходов бюджета Клетнянского муниципального района Брянской области на 2026 год и на плановый период 2027 и 2028 годов | M8: 2026 | P8: 2027 | S8: 2028
L9: рублей | M9: было | N9: +/- | O9: стало | P9: было | Q9: +/- | R9: стало | S9: было | T9: +/- | U9: стало
A10: Наименование | E10: Гл | F10: Рз | G10: Пр | H10: ЦСР | I10: ВР | J10: 2026 год | K10: 2027 год | L10: 2028 год
A12: Администрация Клетнянского района | E12: 851 | J12: =J13+J92+J99+J111+J147+J171+J176+J190+J230+J248 -> 6319298.4 | K12: =K13+K92+K99+K111+K147+K171+K176+K190+K230+K248 -> 0 | L12: =L13+L92+L99+L111+L147+L171+L176+L190+L230+L248 -> 0 | M12: ='3.ВС (2)'!J7 -> 1.5841859e+08 | N12: =O12-M12 -> -1.5209929e+08 | O12: =J12 -> 6319298.4 | P12: ='3.ВС (2)'!K7 -> 1.7946826e+08 | Q12: =R12-P12 -> -1.7946826e+08 | R12: =K12 -> 0 | S12: ='3.ВС (2)'!L7 -> 1.4674778e+08 | T12: =U12-S12 -> -1.4674778e+08 | U12: =L12 -> 0
A13: Общегосударственные вопросы | E13: 851 | F13: 01 | J13: =J14+J75+J79 -> 861938.49 | K13: =K14+K75+K79 -> 0 | L13: =L14+L75+L79 -> 0 | M13: ='3.ВС (2)'!J8 -> 47265937 | N13: =O13-M13 -> -46403999 | O13: =J13 -> 861938.49 | P13: ='3.ВС (2)'!K8 -> 42654266 | Q13: =R13-P13 -> -42654266 | R13: =K13 -> 0 | S13: ='3.ВС (2)'!L8 -> 42654620 | T13: =U13-S13 -> -42654620 | U13: =L13 -> 0
A14: Функционирование Правительства Российской Федерации, высших исполнительных органов субъектов Российской Федерации, местных администраций | E14: 851 | F14: 01 | G14: 04 | J14: =J15+J20+J25+J28+J33+J38+J41+J57+J48+J51+J54+J60+J63+J66+J69+J72 -> 861938.49 | K14: =K15+K20+K25+K28+K33+K38+K41+K57+K48+K51+K54+K60+K63+K66+K69+K72 -> 0 | L14: =L15+L20+L25+L28+L33+L38+L41+L57+L48+L51+L54+L60+L63+L66+L69+L72 -> 0 | M14: ='3.ВС (2)'!J9 -> 41242558 | N14: =O14-M14 -> -40380620 | O14: =J14 -> 861938.49 | P14: ='3.ВС (2)'!K9 -> 37253558 | Q14: =R14-P14 -> -37253558 | R14: =K14 -> 0 | S14: ='3.ВС (2)'!L9 -> 37253558 | T14: =U14-S14 -> -37253558 | U14: =L14 -> 0
A15: Осуществление отдельных государственных полномочий Брянской области в сфере деятельности по профилактике безнадзорности и правонарушений несовершеннолетних, организации деятельности административных комиссий и определения перечня должностных лиц органов местного самоуправления, уполномоченных составлять протоколы об административных правонарушениях (осуществление отдельных государственных полномочий Брянской области в сфере деятельности по профилактике безнадзорности и правонарушений несовершеннолетних) | E15: 851 | F15: 01 | G15: 04 | H15: 51 4 01 12021 | J15: =J16+J18 -> 0 | K15: =K16+K18 -> 0 | L15: =L16+L18 -> 0 | M15: ='3.ВС (2)'!J10 -> 766676 | N15: =O15-M15 -> -766676 | O15: =J15 -> 0 | P15: ='3.ВС (2)'!K10 -> 766676 | Q15: =R15-P15 -> -766676 | R15: =K15 -> 0 | S15: ='3.ВС (2)'!L10 -> 766676 | T15: =U15-S15 -> -766676 | U15: =L15 -> 0
A16: Расходы на выплаты персоналу в целях обеспечения выполнения функций государственными (муниципальными) органами, казенными учреждениями, органами управления государственными внебюджетными фондами | E16: 851 | F16: 01 | G16: 04 | H16: 51 4 01 12021 | I16: 100 | J16: =J17 -> 0 | K16: =K17 -> 0 | L16: =L17 -> 0 | M16: ='3.ВС (2)'!J11 -> 747400 | N16: =O16-M16 -> -747400 | O16: =J16 -> 0 | P16: ='3.ВС (2)'!K11 -> 747400 | Q16: =R16-P16 -> -747400 | R16: =K16 -> 0 | S16: ='3.ВС (2)'!L11 -> 747400 | T16: =U16-S16 -> -747400 | U16: =L16 -> 0
A17: Расходы на выплаты персоналу государственных (муниципальных) органов | E17: 851 | F17: 01 | G17: 04 | H17: 51 4 01 12021 | I17: 120 | M17: ='3.ВС (2)'!J12 -> 747400 | N17: =O17-M17 -> -747400 | O17: =J17 -> 0 | P17: ='3.ВС (2)'!K12 -> 747400 | Q17: =R17-P17 -> -747400 | R17: =K17 -> 0 | S17: ='3.ВС (2)'!L12 -> 747400 | T17: =U17-S17 -> -747400 | U17: =L17 -> 0
A18: Закупка товаров, работ и услуг для обеспечения государственных (муниципальных) нужд | E18: 851 | F18: 01 | G18: 04 | H18: 51 4 01 12021 | I18: 200 | J18: =J19 -> 0 | K18: =K19 -> 0 | L18: =L19 -> 0 | M18: ='3.ВС (2)'!J13 -> 19276 | N18: =O18-M18 -> -19276 | O18: =J18 -> 0 | P18: ='3.ВС (2)'!K13 -> 19276 | Q18: =R18-P18 -> -19276 | R18: =K18 -> 0 | S18: ='3.ВС (2)'!L13 -> 19276 | T18: =U18-S18 -> -19276 | U18: =L18 -> 0
A19: Иные закупки товаров, работ и услуг для обеспечения государственных (муниципальных) нужд | E19: 851 | F19: 01 | G19: 04 | H19: 51 4 01 12021 | I19: 240 | M19: ='3.ВС (2)'!J14 -> 19276 | N19: =O19-M19 -> -19276 | O19: =J19 -> 0 | P19: ='3.ВС (2)'!K14 -> 19276 | Q19: =R19-P19 -> -19276 | R19: =K19 -> 0 | S19: ='3.ВС (2)'!L14 -> 19276 | T19: =U19-S19 -> -19276 | U19: =L19 -> 0
A20: Осуществление отдельных государственных полномочий Брянской области в сфере деятельности по профилактике безнадзорности и правонарушений несовершеннолетних, организации деятельности административных комиссий и определения перечня должностных лиц органов местного самоуправления, уполномоченных составлять протоколы об административных правонарушениях (осуществление отдельных государственных полномочий Брянской области по организации деятельности административных комиссий) | E20: 851 | F20: 01 | G20: 04 | H20: 51 4 01 12022 | J20: =J21+J23 -> 0 | K20: =K21+K23 -> 0 | L20: =L21+L23 -> 0 | M20: ='3.ВС (2)'!J15 -> 766676 | N20: =O20-M20 -> -766676 | O20: =J20 -> 0 | P20: ='3.ВС (2)'!K15 -> 766676 | Q20: =R20-P20 -> -766676 | R20: =K20 -> 0 | S20: ='3.ВС (2)'!L15 -> 766676 | T20: =U20-S20 -> -766676 | U20: =L20 -> 0
A21: Расходы на выплаты персоналу в целях обеспечения выполнения функций государственными (муниципальными) органами, казенными учреждениями, органами управления государственными внебюджетными фондами | E21: 851 | F21: 01 | G21: 04 | H21: 51 4 01 12022 | I21: 100 | J21: =J22 -> 0 | K21: =K22 -> 0 | L21: =L22 -> 0 | M21: ='3.ВС (2)'!J16 -> 704100 | N21: =O21-M21 -> -704100 | O21: =J21 -> 0 | P21: ='3.ВС (2)'!K16 -> 704100 | Q21: =R21-P21 -> -704100 | R21: =K21 -> 0 | S21: ='3.ВС (2)'!L16 -> 704100 | T21: =U21-S21 -> -704100 | U21: =L21 -> 0
A22: Расходы на выплаты персоналу государственных (муниципальных) органов | E22: 851 | F22: 01 | G22: 04 | H22: 51 4 01 12022 | I22: 120 | M22: ='3.ВС (2)'!J17 -> 704100 | N22: =O22-M22 -> -704100 | O22: =J22 -> 0 | P22: ='3.ВС (2)'!K17 -> 704100 | Q22: =R22-P22 -> -704100 | R22: =K22 -> 0 | S22: ='3.ВС (2)'!L17 -> 704100 | T22: =U22-S22 -> -704100 | U22: =L22 -> 0
A23: Закупка товаров, работ и услуг для обеспечения государственных (муниципальных) нужд | E23: 851 | F23: 01 | G23: 04 | H23: 51 4 01 12022 | I23: 200 | J23: =J24 -> 0 | K23: =K24 -> 0 | L23: =L24 -> 0 | M23: ='3.ВС (2)'!J18 -> 62576 | N23: =O23-M23 -> -62576 | O23: =J23 -> 0 | P23: ='3.ВС (2)'!K18 -> 62576 | Q23: =R23-P23 -> -62576 | R23: =K23 -> 0 | S23: ='3.ВС (2)'!L18 -> 62576 | T23: =U23-S23 -> -62576 | U23: =L23 -> 0
A24: Иные закупки товаров, работ и услуг для обеспечения государственных (муниципальных) нужд | E24: 851 | F24: 01 | G24: 04 | H24: 51 4 01 12022 | I24: 240 | M24: ='3.ВС (2)'!J19 -> 62576 | N24: =O24-M24 -> -62576 | O24: =J24 -> 0 | P24: ='3.ВС (2)'!K19 -> 62576 | Q24: =R24-P24 -> -62576 | R24: =K24 -> 0 | S24: ='3.ВС (2)'!L19 -> 62576 | T24: =U24-S24 -> -62576 | U24: =L24 -> 0
A25: Осуществление отдельных государственных полномочий Брянской области в сфере деятельности по профилактике безнадзорности и правонарушений несовершеннолетних, организации деятельности административных комиссий и определения перечня должностных лиц органов местного самоуправления, уполномоченных составлять протоколы об административных правонарушениях (осуществление отдельных государственных полномочий Брянской области по определению перечня должностных лиц органов местного самоуправления, уполномоченных составлять протоколы об административных правонарушениях) | E25: 851 | F25: 01 | G25: 04 | H25: 51 4 01 12023 | J25: =J26 -> 0 | K25: =K26 -> 0 | L25: =L26 -> 0 | M25: ='3.ВС (2)'!J20 -> 400 | N25: =O25-M25 -> -400 | O25: =J25 -> 0 | P25: ='3.ВС (2)'!K20 -> 400 | Q25: =R25-P25 -> -400 | R25: =K25 -> 0 | S25: ='3.ВС (2)'!L20 -> 400 | T25: =U25-S25 -> -400 | U25: =L25 -> 0
A26: Закупка товаров, работ и услуг для обеспечения государственных (муниципальных) нужд | E26: 851 | F26: 01 | G26: 04 | H26: 51 4 01 12023 | I26: 200 | J26: =J27 -> 0 | K26: =K27 -> 0 | L26: =L27 -> 0 | M26: ='3.ВС (2)'!J21 -> 400 | N26: =O26-M26 -> -400 | O26: =J26 -> 0 | P26: ='3.ВС (2)'!K21 -> 400 | Q26: =R26-P26 -> -400 | R26: =K26 -> 0 | S26: ='3.ВС (2)'!L21 -> 400 | T26: =U26-S26 -> -400 | U26: =L26 -> 0
A27: Иные закупки товаров, работ и услуг для обеспечения государственных (муниципальных) нужд | E27: 851 | F27: 01 | G27: 04 | H27: 51 4 01 12023 | I27: 240 | M27: ='3.ВС (2)'!J22 -> 400 | N27: =O27-M27 -> -400 | O27: =J27 -> 0 | P27: ='3.ВС (2)'!K22 -> 400 | Q27: =R27-P27 -> -400 | R27: =K27 -> 0 | S27: ='3.ВС (2)'!L22 -> 400 | T27: =U27-S27 -> -400 | U27: =L27 -> 0
A28: Установление регулируемых тарифов на регулярные перевозки пассажиров и багажа автомобильным транспортом и городским наземным электрическим транспортом по муниципальным маршрутам регулярных перевозок | E28: 851 | F28: 01 | G28: 04 | H28: 51 4 01 17390 | J28: =J29+J31 -> 0 | K28: =K29+K31 -> 0 | L28: =L29+L31 -> 0 | M28: ='3.ВС (2)'!J23 -> 76668 | N28: =O28-M28 -> -76668 | O28: =J28 -> 0 | P28: ='3.ВС (2)'!K23 -> 76668 | Q28: =R28-P28 -> -76668 | R28: =K28 -> 0 | S28: ='3.ВС (2)'!L23 -> 76668 | T28: =U28-S28 -> -76668 | U28: =L28 -> 0
A29: Расходы на выплаты персоналу в целях обеспечения выполнения функций государственными (муниципальными) органами, казенными учреждениями, органами управления государственными внебюджетными фондами | E29: 851 | F29: 01 | G29: 04 | H29: 51 4 01 17390 | I29: 100 | J29: =J30 -> 0 | K29: =K30 -> 0 | L29: =L30 -> 0 | M29: ='3.ВС (2)'!J24 -> 54850 | N29: =O29-M29 -> -54850 | O29: =J29 -> 0 | P29: ='3.ВС (2)'!K24 -> 54850 | Q29: =R29-P29 -> -54850 | R29: =K29 -> 0 | S29: ='3.ВС (2)'!L24 -> 54850 | T29: =U29-S29 -> -54850 | U29: =L29 -> 0
A30: Расходы на выплаты персоналу государственных (муниципальных) органов | E30: 851 | F30: 01 | G30: 04 | H30: 51 4 01 17390 | I30: 120 | M30: ='3.ВС (2)'!J25 -> 54850 | N30: =O30-M30 -> -54850 | O30: =J30 -> 0 | P30: ='3.ВС (2)'!K25 -> 54850 | Q30: =R30-P30 -> -54850 | R30: =K30 -> 0 | S30: ='3.ВС (2)'!L25 -> 54850 | T30: =U30-S30 -> -54850 | U30: =L30 -> 0
A31: Закупка товаров, работ и услуг для обеспечения государственных (муниципальных) нужд | E31: 851 | F31: 01 | G31: 04 | H31: 51 4 01 17390 | I31: 200 | J31: =J32 -> 0 | K31: =K32 -> 0 | L31: =L32 -> 0 | M31: ='3.ВС (2)'!J26 -> 21818 | N31: =O31-M31 -> -21818 | O31: =J31 -> 0 | P31: ='3.ВС (2)'!K26 -> 21818 | Q31: =R31-P31 -> -21818 | R31: =K31 -> 0 | S31: ='3.ВС (2)'!L26 -> 21818 | T31: =U31-S31 -> -21818 | U31: =L31 -> 0
A32: Иные закупки товаров, работ и услуг для обеспечения государственных (муниципальных) нужд | E32: 851 | F32: 01 | G32: 04 | H32: 51 4 01 17390 | I32: 240 | M32: ='3.ВС (2)'!J27 -> 21818 | N32: =O32-M32 -> -21818 | O32: =J32 -> 0 | P32: ='3.ВС (2)'!K27 -> 21818 | Q32: =R32-P32 -> -21818 | R32: =K32 -> 0 | S32: ='3.ВС (2)'!L27 -> 21818 | T32: =U32-S32 -> -21818 | U32: =L32 -> 0
A33: Осуществление отдельных полномочий в области охраны труда и уведомительной регистрации территориальных соглашений и коллективных договоров | E33: 851 | F33: 01 | G33: 04 | H33: 51 4 01 17900 | J33: =J34+J36 -> 0 | K33: =K34+K36 -> 0 | L33: =L34+L36 -> 0 | M33: ='3.ВС (2)'!J28 -> 383338 | N33: =O33-M33 -> -383338 | O33: =J33 -> 0 | P33: ='3.ВС (2)'!K28 -> 383338 | Q33: =R33-P33 -> -383338 | R33: =K33 -> 0 | S33: ='3.ВС (2)'!L28 -> 383338 | T33: =U33-S33 -> -383338 | U33: =L33 -> 0
A34: Расходы на выплаты персоналу в целях обеспечения выполнения функций государственными (муниципальными) органами, казенными учреждениями, органами управления государственными внебюджетными фондами | E34: 851 | F34: 01 | G34: 04 | H34: 51 4 01 17900 | I34: 100 | J34: =J35 -> 0 | K34: =K35 -> 0 | L34: =L35 -> 0 | M34: ='3.ВС (2)'!J29 -> 288500 | N34: =O34-M34 -> -288500 | O34: =J34 -> 0 | P34: ='3.ВС (2)'!K29 -> 288500 | Q34: =R34-P34 -> -288500 | R34: =K34 -> 0 | S34: ='3.ВС (2)'!L29 -> 288500 | T34: =U34-S34 -> -288500 | U34: =L34 -> 0
A35: Расходы на выплаты персоналу государственных (муниципальных) органов | E35: 851 | F35: 01 | G35: 04 | H35: 51 4 01 17900 | I35: 120 | M35: ='3.ВС (2)'!J30 -> 288500 | N35: =O35-M35 -> -288500 | O35: =J35 -> 0 | P35: ='3.ВС (2)'!K30 -> 288500 | Q35: =R35-P35 -> -288500 | R35: =K35 -> 0 | S35: ='3.ВС (2)'!L30 -> 288500 | T35: =U35-S35 -> -288500 | U35: =L35 -> 0
A36: Закупка товаров, работ и услуг для обеспечения государственных (муниципальных) нужд | E36: 851 | F36: 01 | G36: 04 | H36: 51 4 01 17900 | I36: 200 | J36: =J37 -> 0 | K36: =K37 -> 0 | L36: =L37 -> 0 | M36: ='3.ВС (2)'!J31 -> 94838 | N36: =O36-M36 -> -94838 | O36: =J36 -> 0 | P36: ='3.ВС (2)'!K31 -> 94838 | Q36: =R36-P36 -> -94838 | R36: =K36 -> 0 | S36: ='3.ВС (2)'!L31 -> 94838 | T36: =U36-S36 -> -94838 | U36: =L36 -> 0
A37: Иные закупки товаров, работ и услуг для обеспечения государственных (муниципальных) нужд | E37: 851 | F37: 01 | G37: 04 | H37: 51 4 01 17900 | I37: 240 | M37: ='3.ВС (2)'!J32 -> 94838 | N37: =O37-M37 -> -94838 | O37: =J37 -> 0 | P37: ='3.ВС (2)'!K32 -> 94838 | Q37: =R37-P37 -> -94838 | R37: =K37 -> 0 | S37: ='3.ВС (2)'!L32 -> 94838 | T37: =U37-S37 -> -94838 | U37: =L37 -> 0
A38: Обеспечение деятельности главы местной администрации (исполнительно-распорядительного органа муниципального образования) | E38: 851 | F38: 01 | G38: 04 | H38: 51 4 01 80020 | J38: =J39 -> 0 | K38: =K39 -> 0 | L38: =L39 -> 0 | M38: ='3.ВС (2)'!J33 -> 2348200 | N38: =O38-M38 -> -2348200 | O38: =J38 -> 0 | P38: ='3.ВС (2)'!K33 -> 2348200 | Q38: =R38-P38 -> -2348200 | R38: =K38 -> 0 | S38: ='3.ВС (2)'!L33 -> 2348200 | T38: =U38-S38 -> -2348200 | U38: =L38 -> 0
A39: Расходы на выплаты персоналу в целях обеспечения выполнения функций государственными (муниципальными) органами, казенными учреждениями, органами управления государственными внебюджетными фондами | E39: 851 | F39: 01 | G39: 04 | H39: 51 4 01 80020 | I39: 100 | J39: =J40 -> 0 | K39: =K40 -> 0 | L39: =L40 -> 0 | M39: ='3.ВС (2)'!J34 -> 2348200 | N39: =O39-M39 -> -2348200 | O39: =J39 -> 0 | P39: ='3.ВС (2)'!K34 -> 2348200 | Q39: =R39-P39 -> -2348200 | R39: =K39 -> 0 | S39: ='3.ВС (2)'!L34 -> 2348200 | T39: =U39-S39 -> -2348200 | U39: =L39 -> 0
A40: Расходы на выплаты персоналу государственных (муниципальных) органов | E40: 851 | F40: 01 | G40: 04 | H40: 51 4 01 80020 | I40: 120 | M40: ='3.ВС (2)'!J35 -> 2348200 | N40: =O40-M40 -> -2348200 | O40: =J40 -> 0 | P40: ='3.ВС (2)'!K35 -> 2348200 | Q40: =R40-P40 -> -2348200 | R40: =K40 -> 0 | S40: ='3.ВС (2)'!L35 -> 2348200 | T40: =U40-S40 -> -2348200 | U40: =L40 -> 0
A41: Руководство и управление в сфере установленных функций органов местного самоуправления | E41: 851 | F41: 01 | G41: 04 | H41: 51 4 01 80040 | J41: =J42+J44+J46 -> 0 | K41: =K42+K44+K46 -> 0 | L41: =L42+L44+L46 -> 0 | M41: ='3.ВС (2)'!J36 -> 36616200 | N41: =O41-M41 -> -36616200 | O41: =J41 -> 0 | P41: ='3.ВС (2)'!K36 -> 32905200 | Q41: =R41-P41 -> -32905200 | R41: =K41 -> 0 | S41: ='3.ВС (2)'!L36 -> 32905200 | T41: =U41-S41 -> -32905200 | U41: =L41 -> 0
A42: Расходы на выплаты персоналу в целях обеспечения выполнения функций государственными (муниципальными) органами, казенными учреждениями, органами управления государственными внебюджетными фондами | E42: 851 | F42: 01 | G42: 04 | H42: 51 4 01 80040 | I42: 100 | J42: =J43 -> 0 | K42: =K43 -> 0 | L42: =L43 -> 0 | M42: ='3.ВС (2)'!J37 -> 31483200 | N42: =O42-M42 -> -31483200 | O42: =J42 -> 0 | P42: ='3.ВС (2)'!K37 -> 30067600 | Q42: =R42-P42 -> -30067600 | R42: =K42 -> 0 | S42: ='3.ВС (2)'!L37 -> 30067600 | T42: =U42-S42 -> -30067600 | U42: =L42 -> 0
A43: Расходы на выплаты персоналу государственных (муниципальных) органов | E43: 851 | F43: 01 | G43: 04 | H43: 51 4 01 80040 | I43: 120 | M43: ='3.ВС (2)'!J38 -> 31483200 | N43: =O43-M43 -> -31483200 | O43: =J43 -> 0 | P43: ='3.ВС (2)'!K38 -> 30067600 | Q43: =R43-P43 -> -30067600 | R43: =K43 -> 0 | S43: ='3.ВС (2)'!L38 -> 30067600 | T43: =U43-S43 -> -30067600 | U43: =L43 -> 0
...

Sheet 4.ФС
H1: Приложение 3
H2: к Решению Клетнянского районного Совета народных депутатов "О внесении изменений в Решение Клетнянского районного Совета народных депутатов "О бюджете Клетнянского муниципального района Брянской области на 2026 год и на плановый период 2027 и 2028 годов"
H3: Приложение 4.3.
H4: к Решению Клетнянского районного Совета народных депутатов "О бюджете Клетнянского муниципального района Брянской области на 2026 год и на плановый период 2027 и 2028 годов
A5: Распределение бюджетных ассигнований по разделам, подразделам, целевым статьям (муниципальным программам и непрограммным направлениям деятельности), группам и подгруппам видов расходов классификации расходов на 2026 год и на плановый период 2027 и 2028 годов
L6: рублей
A7: Наименование | E7: Гл | F7: Рз | G7: Пр | H7: ЦСР | I7: ВР | J7: 2026 год | K7: 2027 год | L7: 2028 год
A8: Общегосударственные вопросы | E8: 854 | F8: 01 | J8: =J9+J15+J76+J80+J101+J105 -> 1154660 | K8: =K9+K15+K76+K80+K101+K105 -> 0 | L8: =L9+L15+L76+L80+L101+L105 -> 0
A9: Функционирование законодательных (представительных) органов государственной власти и представительных органов муниципальных образований | E9: 854 | F9: 01 | G9: 03 | J9: =J10 -> 0 | K9: =K10 -> 0 | L9: =L10 -> 0
A10: Руководство и управление в сфере установленных функций органов местного самоуправления | E10: 854 | F10: 01 | G10: 03 | H10: 70 0 00 80040 | J10: =J11+J13 -> 0 | K10: =K11+K13 -> 0 | L10: =L11+L13 -> 0
A11: Расходы на выплаты персоналу в целях обеспечения выполнения функций государственными (муниципальными) органами, казенными учреждениями, органами управления государственными внебюджетными фондами | E11: 854 | F11: 01 | G11: 03 | H11: 70 0 00 80040 | I11: 100 | J11: =J12 -> 0 | K11: =K12 -> 0 | L11: =L12 -> 0
A12: Расходы на выплаты персоналу государственных (муниципальных) органов | E12: 854 | F12: 01 | G12: 03 | H12: 70 0 00 80040 | I12: 120 | J12: ='3.ВС'!J425 -> 0 | K12: ='3.ВС'!K425 -> 0 | L12: ='3.ВС'!L425 -> 0
A13: Закупка товаров, работ и услуг для обеспечения государственных (муниципальных) нужд | E13: 854 | F13: 01 | G13: 03 | H13: 70 0 00 80040 | I13: 200 | J13: =J14 -> 0 | K13: =K14 -> 0 | L13: =L14 -> 0
A14: Иные закупки товаров, работ и услуг для обеспечения государственных (муниципальных) нужд | E14: 854 | F14: 01 | G14: 03 | H14: 70 0 00 80040 | I14: 240 | J14: ='3.ВС'!J427 -> 0 | K14: ='3.ВС'!K427 -> 0 | L14: ='3.ВС'!L427 -> 0
A15: Функционирование Правительства Российской Федерации, высших исполнительных органов субъектов Российской Федерации, местных администраций | E15: 851 | F15: 01 | G15: 04 | J15: =J16+J21+J26+J29+J34+J39+J42+J58+J49+J52+J55+J61+J64+J67+J70+J73 -> 861938.49 | K15: =K16+K21+K26+K29+K34+K39+K42+K58+K49+K52+K55+K61+K64+K67+K70+K73 -> 0 | L15: =L16+L21+L26+L29+L34+L39+L42+L58+L49+L52+L55+L61+L64+L67+L70+L73 -> 0
A16: Осуществление отдельных государственных полномочий Брянской области в сфере деятельности по профилактике безнадзорности и правонарушений несовершеннолетних, организации деятельности административных комиссий и определения перечня должностных лиц органов местного самоуправления, уполномоченных составлять протоколы об административных правонарушениях (осуществление отдельных государственных полномочий Брянской области в сфере деятельности по профилактике безнадзорности и правонарушений несовершеннолетних) | E16: 851 | F16: 01 | G16: 04 | H16: 51 4 01 12021 | J16: =J17+J19 -> 0 | K16: =K17+K19 -> 0 | L16: =L17+L19 -> 0
A17: Расходы на выплаты персоналу в целях обеспечения выполнения функций государственными (муниципальными) органами, казенными учреждениями, органами управления государственными внебюджетными фондами | E17: 851 | F17: 01 | G17: 04 | H17: 51 4 01 12021 | I17: 100 | J17: =J18 -> 0 | K17: =K18 -> 0 | L17: =L18 -> 0
A18: Расходы на выплаты персоналу государственных (муниципальных) органов | E18: 851 | F18: 01 | G18: 04 | H18: 51 4 01 12021 | I18: 120 | J18: ='3.ВС'!J17 -> 0 | K18: ='3.ВС'!K17 -> 0 | L18: ='3.ВС'!L17 -> 0
A19: Закупка товаров, работ и услуг для обеспечения государственных (муниципальных) нужд | E19: 851 | F19: 01 | G19: 04 | H19: 51 4 01 12021 | I19: 200 | J19: =J20 -> 0 | K19: =K20 -> 0 | L19: =L20 -> 0
A20: Иные закупки товаров, работ и услуг для обеспечения государственных (муниципальных) нужд | E20: 851 | F20: 01 | G20: 04 | H20: 51 4 01 12021 | I20: 240 | J20: ='3.ВС'!J19 -> 0 | K20: ='3.ВС'!K19 -> 0 | L20: ='3.ВС'!L19 -> 0
A21: Осуществление отдельных государственных полномочий Брянской области в сфере деятельности по профилактике безнадзорности и правонарушений несовершеннолетних, организации деятельности административных комиссий и определения перечня должностных лиц органов местного самоуправления, уполномоченных составлять протоколы об административных правонарушениях (осуществление отдельных государственных полномочий Брянской области по организации деятельности административных комиссий ) | E21: 851 | F21: 01 | G21: 04 | H21: 51 4 01 12022 | J21: =J22+J24 -> 0 | K21: =K22+K24 -> 0 | L21: =L22+L24 -> 0
A22: Расходы на выплаты персоналу в целях обеспечения выполнения функций государственными (муниципальными) органами, казенными учреждениями, органами управления государственными внебюджетными фондами | E22: 851 | F22: 01 | G22: 04 | H22: 51 4 01 12022 | I22: 100 | J22: =J23 -> 0 | K22: =K23 -> 0 | L22: =L23 -> 0
A23: Расходы на выплаты персоналу государственных (муниципальных) органов | E23: 851 | F23: 01 | G23: 04 | H23: 51 4 01 12022 | I23: 120 | J23: ='3.ВС'!J22 -> 0 | K23: ='3.ВС'!K22 -> 0 | L23: ='3.ВС'!L22 -> 0
A24: Закупка товаров, работ и услуг для обеспечения государственных (муниципальных) нужд | E24: 851 | F24: 01 | G24: 04 | H24: 51 4 01 12022 | I24: 200 | J24: =J25 -> 0 | K24: =K25 -> 0 | L24: =L25 -> 0
A25: Иные закупки товаров, работ и услуг для обеспечения государственных (муниципальных) нужд | E25: 851 | F25: 01 | G25: 04 | H25: 51 4 01 12022 | I25: 240 | J25: ='3.ВС'!J24 -> 0 | K25: ='3.ВС'!K24 -> 0 | L25: ='3.ВС'!L24 -> 0
A26: Осуществление отдельных государственных полномочий Брянской области в сфере деятельности по профилактике безнадзорности и правонарушений несовершеннолетних, организации деятельности административных комиссий и определения перечня должностных лиц органов местного самоуправления, уполномоченных составлять протоколы об административных правонарушениях (осуществление отдельных государственных полномочий Брянской области по определению перечня должностных лиц органов местного самоуправления, уполномоченных составлять протоколы об административных правонарушениях) | E26: 851 | F26: 01 | G26: 04 | H26: 51 4 01 12023 | J26: =J27 -> 0 | K26: =K27 -> 0 | L26: =L27 -> 0
A27: Закупка товаров, работ и услуг для обеспечения государственных (муниципальных) нужд | E27: 851 | F27: 01 | G27: 04 | H27: 51 4 01 12023 | I27: 200 | J27: =J28 -> 0 | K27: =K28 -> 0 | L27: =L28 -> 0
A28: Иные закупки товаров, работ и услуг для обеспечения государственных (муниципальных) нужд | E28: 851 | F28: 01 | G28: 04 | H28: 51 4 01 12023 | I28: 240 | J28: ='3.ВС'!J27 -> 0 | K28: ='3.ВС'!K27 -> 0 | L28: ='3.ВС'!L27 -> 0
A29: Установление регулируемых тарифов на регулярные перевозки пассажиров и багажа автомобильным транспортом и городским наземным электрическим транспортом по муниципальным маршрутам регулярных перевозок | E29: 851 | F29: 01 | G29: 04 | H29: 51 4 01 17390 | J29: =J30+J32 -> 0 | K29: =K30+K32 -> 0 | L29: =L30+L32 -> 0
A30: Расходы на выплаты персоналу в целях обеспечения выполнения функций государственными (муниципальными) органами, казенными учреждениями, органами управления государственными внебюджетными фондами | E30: 851 | F30: 01 | G30: 04 | H30: 51 4 01 17390 | I30: 100 | J30: =J31 -> 0 | K30: =K31 -> 0 | L30: =L31 -> 0
A31: Расходы на выплаты персоналу государственных (муниципальных) органов | E31: 851 | F31: 01 | G31: 04 | H31: 51 4 01 17390 | I31: 120 | J31: ='3.ВС'!J30 -> 0 | K31: ='3.ВС'!K30 -> 0 | L31: ='3.ВС'!L30 -> 0
A32: Закупка товаров, работ и услуг для обеспечения государственных (муниципальных) нужд | E32: 851 | F32: 01 | G32: 04 | H32: 51 4 01 17390 | I32: 200 | J32: =J33 -> 0 | K32: =K33 -> 0 | L32: =L33 -> 0
A33: Иные закупки товаров, работ и услуг для обеспечения государственных (муниципальных) нужд | E33: 851 | F33: 01 | G33: 04 | H33: 51 4 01 17390 | I33: 240 | J33: ='3.ВС'!J32 -> 0 | K33: ='3.ВС'!K32 -> 0 | L33: ='3.ВС'!L32 -> 0
A34: Осуществление отдельных полномочий в области охраны труда и уведомительной регистрации территориальных соглашений и коллективных договоров | E34: 851 | F34: 01 | G34: 04 | H34: 51 4 01 17900 | J34: =J35+J37 -> 0 | K34: =K35+K37 -> 0 | L34: =L35+L37 -> 0
A35: Расходы на выплаты персоналу в целях обеспечения выполнения функций государственными (муниципальными) органами, казенными учреждениями, органами управления государственными внебюджетными фондами | E35: 851 | F35: 01 | G35: 04 | H35: 51 4 01 17900 | I35: 100 | J35: =J36 -> 0 | K35: =K36 -> 0 | L35: =L36 -> 0
A36: Расходы на выплаты персоналу государственных (муниципальных) органов | E36: 851 | F36: 01 | G36: 04 | H36: 51 4 01 17900 | I36: 120 | J36: ='3.ВС'!J35 -> 0 | K36: ='3.ВС'!K35 -> 0 | L36: ='3.ВС'!L35 -> 0
A37: Закупка товаров, работ и услуг для обеспечения государственных (муниципальных) нужд | E37: 851 | F37: 01 | G37: 04 | H37: 51 4 01 17900 | I37: 200 | J37: =J38 -> 0 | K37: =K38 -> 0 | L37: =L38 -> 0
A38: Иные закупки товаров, работ и услуг для обеспечения государственных (муниципальных) нужд | E38: 851 | F38: 01 | G38: 04 | H38: 51 4 01 17900 | I38: 240 | J38: ='3.ВС'!J37 -> 0 | K38: ='3.ВС'!K37 -> 0 | L38: ='3.ВС'!L37 -> 0
A39: Обеспечение деятельности главы местной администрации (исполнительно-распорядительного органа муниципального образования) | E39: 851 | F39: 01 | G39: 04 | H39: 51 4 01 80020 | J39: =J40 -> 0 | K39: =K40 -> 0 | L39: =L40 -> 0
A40: Расходы на выплаты персоналу в целях обеспечения выполнения функций государственными (муниципальными) органами, казенными учреждениями, органами управления государственными внебюджетными фондами | E40: 851 | F40: 01 | G40: 04 | H40: 51 4 01 80020 | I40: 100 | J40: =J41 -> 0 | K40: =K41 -> 0 | L40: =L41 -> 0
...

Sheet 5.ПС
H1: Приложение 4
H2: к Решению Клетнянского районного Совета народных депутатов "О внесении изменений в Решение Клетнянского районного Совета народных депутатов "О бюджете Клетнянского муниципального района Брянской области на 2026 год и на плановый период 2027 и 2028 годов"
H3: Приложение 5.3.
H4: к Решению Клетнянского районного Совета народных депутатов "О бюджете Клетнянского муниципального района Брянской области на 2026 год и на плановый период 2027 и 2028 годов
A5: Распределение расходов бюджета Клетнянского муниципального района Брянской области по целевым статьям (муниципальным программам и непрограммным направлениям деятельности), группам и подгруппам видов расходов на 2026 год и на плановый период 2027 и 208 годов
L6: рублей
A7: Наименование | B7: МП | C7: ППМП | D7: ОМ | E7: ГРБС | F7: Рз | G7: Пр | H7: НР | I7: ВР | J7: 2026 год | K7: 2027 год | L7: 2028 год
A8: Обеспечение реализации полномочий Клетнянского муниципального района | B8: 51 | J8: =J9+J71+J85+J90+J100+J112+J117+J128+J136+J152+J160+J165+J170+J175+J180+J198+J207+J245+J251+J271+J284+J188+J193 -> 5457359.9 | K8: =K9+K71+K85+K90+K100+K112+K117+K128+K136+K152+K160+K165+K170+K175+K180+K198+K207+K245+K251+K271+K284+K188+K193 -> 0 | L8: =L9+L71+L85+L90+L100+L112+L117+L128+L136+L152+L160+L165+L170+L175+L180+L198+L207+L245+L251+L271+L284+L188+L193 -> 0
A9: Обеспечение эффективной деятельности главы и аппарата исполнительно-распорядительного органа муниципального образования | B9: 51 | C9: 0 | D9: 01 | J9: =J10 -> 0 | K9: =K10 -> 0 | L9: =L10 -> 0
A10: Администрация Клетнянского района | B10: 51 | C10: 0 | D10: 01 | E10: 851 | J10: =J11+J16+J21+J24+J29+J34+J37+J44+J47+J50+J53+J56+J59+J62+J65+J68 -> 0 | K10: =K11+K16+K21+K24+K29+K34+K37+K44+K47+K50+K53+K56+K59+K62+K65+K68 -> 0 | L10: =L11+L16+L21+L24+L29+L34+L37+L44+L47+L50+L53+L56+L59+L62+L65+L68 -> 0
A11: Осуществление отдельных государственных полномочий Брянской области в сфере деятельности по профилактике безнадзорности и правонарушений несовершеннолетних, организации деятельности административных комиссий и определения перечня должностных лиц органов местного самоуправления, уполномоченных составлять протоколы об административных правонарушениях (осуществление отдельных государственных полномочий Брянской области в сфере деятельности по профилактике безнадзорности и правонарушений несовершеннолетних) | B11: 51 | C11: 0 | D11: 01 | E11: 851 | F11: 01, 10 | G11: 13, 06 | H11: 12021 | J11: =J12+J14 -> 0 | K11: =K12+K14 -> 0 | L11: =L12+L14 -> 0
A12: Расходы на выплаты персоналу в целях обеспечения выполнения функций государственными (муниципальными) органами, казенными учреждениями, органами управления государственными внебюджетными фондами | B12: 51 | C12: 0 | D12: 01 | E12: 851 | F12: 01, 10 | G12: 13, 06 | H12: 12021 | I12: 100 | J12: =J13 -> 0 | K12: =K13 -> 0 | L12: =L13 -> 0
A13: Расходы на выплаты персоналу государственных (муниципальных) органов | B13: 51 | C13: 0 | D13: 01 | E13: 851 | F13: 01, 10 | G13: 13, 06 | H13: 12021 | I13: 120 | J13: ='3.ВС'!J17 -> 0 | K13: ='3.ВС'!K17 -> 0 | L13: ='3.ВС'!L17 -> 0
A14: Закупка товаров, работ и услуг для обеспечения государственных (муниципальных) нужд | B14: 51 | C14: 0 | D14: 01 | E14: 851 | F14: 01, 10 | G14: 13, 06 | H14: 12021 | I14: 200 | J14: =J15 -> 0 | K14: =K15 -> 0 | L14: =L15 -> 0
A15: Иные закупки товаров, работ и услуг для обеспечения государственных (муниципальных) нужд | B15: 51 | C15: 0 | D15: 01 | E15: 851 | F15: 01, 10 | G15: 13, 06 | H15: 12021 | I15: 240 | J15: ='3.ВС'!J19 -> 0 | K15: ='3.ВС'!K19 -> 0 | L15: ='3.ВС'!L19 -> 0
A16: Осуществление отдельных государственных полномочий Брянской области в сфере деятельности по профилактике безнадзорности и правонарушений несовершеннолетних, организации деятельности административных комиссий и определения перечня должностных лиц органов местного самоуправления, уполномоченных составлять протоколы об административных правонарушениях (осуществление отдельных государственных полномочий Брянской области по организации деятельности административных комиссий ) | B16: 51 | C16: 0 | D16: 01 | E16: 851 | F16: 01, 10 | G16: 13, 06 | H16: 12022 | J16: =J17+J19 -> 0 | K16: =K17+K19 -> 0 | L16: =L17+L19 -> 0
A17: Расходы на выплаты персоналу в целях обеспечения выполнения функций государственными (муниципальными) органами, казенными учреждениями, органами управления государственными внебюджетными фондами | B17: 51 | C17: 0 | D17: 01 | E17: 851 | F17: 01 | G17: 13 | H17: 12022 | I17: 100 | J17: =J18 -> 0 | K17: =K18 -> 0 | L17: =L18 -> 0
A18: Расходы на выплаты персоналу государственных (муниципальных) органов | B18: 51 | C18: 0 | D18: 01 | E18: 851 | F18: 01 | G18: 13 | H18: 12022 | I18: 120 | J18: ='3.ВС'!J22 -> 0 | K18: ='3.ВС'!K22 -> 0 | L18: ='3.ВС'!L22 -> 0
A19: Закупка товаров, работ и услуг для обеспечения государственных (муниципальных) нужд | B19: 51 | C19: 0 | D19: 01 | E19: 851 | F19: 01 | G19: 13 | H19: 12022 | I19: 200 | J19: =J20 -> 0 | K19: =K20 -> 0 | L19: =L20 -> 0
A20: Иные закупки товаров, работ и услуг для обеспечения государственных (муниципальных) нужд | B20: 51 | C20: 0 | D20: 01 | E20: 851 | F20: 01 | G20: 13 | H20: 12022 | I20: 240 | J20: ='3.ВС'!J24 -> 0 | K20: ='3.ВС'!K24 -> 0 | L20: ='3.ВС'!L24 -> 0
A21: Осуществление отдельных государственных полномочий Брянской области в сфере деятельности по профилактике безнадзорности и правонарушений несовершеннолетних, организации деятельности административных комиссий и определения перечня должностных лиц органов местного самоуправления, уполномоченных составлять протоколы об административных правонарушениях (осуществление отдельных государственных полномочий Брянской области по определению перечня должностных лиц органов местного самоуправления, уполномоченных составлять протоколы об административных правонарушениях) | B21: 51 | C21: 0 | D21: 01 | E21: 851 | F21: 01 | G21: 13 | H21: 12023 | J21: =J22 -> 0 | K21: =K22 -> 0 | L21: =L22 -> 0
A22: Закупка товаров, работ и услуг для обеспечения государственных (муниципальных) нужд | B22: 51 | C22: 0 | D22: 01 | E22: 851 | F22: 01 | G22: 13 | H22: 12023 | I22: 200 | J22: =J23 -> 0 | K22: =K23 -> 0 | L22: =L23 -> 0
A23: Иные закупки товаров, работ и услуг для обеспечения государственных (муниципальных) нужд | B23: 51 | C23: 0 | D23: 01 | E23: 851 | F23: 01 | G23: 13 | H23: 12023 | I23: 240 | J23: ='3.ВС'!J27 -> 0 | K23: ='3.ВС'!K27 -> 0 | L23: ='3.ВС'!L27 -> 0
A24: Установление регулируемых тарифов на регулярные перевозки пассажиров и багажа автомобильным транспортом и городским наземным электрическим транспортом по муниципальным маршрутам регулярных перевозок | B24: 51 | C24: 0 | D24: 01 | E24: 851 | F24: 04 | G24: 12 | H24: 17390 | J24: =J25+J27 -> 0 | K24: =K25+K27 -> 0 | L24: =L25+L27 -> 0
A25: Расходы на выплаты персоналу в целях обеспечения выполнения функций государственными (муниципальными) органами, казенными учреждениями, органами управления государственными внебюджетными фондами | B25: 51 | C25: 0 | D25: 01 | E25: 851 | F25: 04 | G25: 12 | H25: 17390 | I25: 100 | J25: =J26 -> 0 | K25: =K26 -> 0 | L25: =L26 -> 0
A26: Расходы на выплаты персоналу государственных (муниципальных) органов | B26: 51 | C26: 0 | D26: 01 | E26: 851 | F26: 04 | G26: 12 | H26: 17390 | I26: 120 | J26: ='3.ВС'!J30 -> 0 | K26: ='3.ВС'!K30 -> 0 | L26: ='3.ВС'!L30 -> 0
A27: Закупка товаров, работ и услуг для обеспечения государственных (муниципальных) нужд | B27: 51 | C27: 0 | D27: 01 | E27: 851 | F27: 04 | G27: 12 | H27: 17390 | I27: 200 | J27: =J28 -> 0 | K27: =K28 -> 0 | L27: =L28 -> 0
A28: Иные закупки товаров, работ и услуг для обеспечения государственных (муниципальных) нужд | B28: 51 | C28: 0 | D28: 01 | E28: 851 | F28: 04 | G28: 12 | H28: 17390 | I28: 240 | J28: ='3.ВС'!J32 -> 0 | K28: ='3.ВС'!K32 -> 0 | L28: ='3.ВС'!L32 -> 0
A29: Осуществление отдельных полномочий в области охраны труда и уведомительной регистрации территориальных соглашений и коллективных договоров | B29: 51 | C29: 0 | D29: 01 | E29: 851 | F29: 04 | G29: 12 | H29: 17900 | J29: =J30+J32 -> 0 | K29: =K30+K32 -> 0 | L29: =L30+L32 -> 0
A30: Расходы на выплаты персоналу в целях обеспечения выполнения функций государственными (муниципальными) органами, казенными учреждениями, органами управления государственными внебюджетными фондами | B30: 51 | C30: 0 | D30: 01 | E30: 851 | F30: 04 | G30: 12 | H30: 17900 | I30: 100 | J30: =J31 -> 0 | K30: =K31 -> 0 | L30: =L31 -> 0
A31: Расходы на выплаты персоналу государственных (муниципальных) органов | B31: 51 | C31: 0 | D31: 01 | E31: 851 | F31: 04 | G31: 12 | H31: 17900 | I31: 120 | J31: ='3.ВС'!J35 -> 0 | K31: ='3.ВС'!K35 -> 0 | L31: ='3.ВС'!L35 -> 0
A32: Закупка товаров, работ и услуг для обеспечения государственных (муниципальных) нужд | B32: 51 | C32: 0 | D32: 01 | E32: 851 | F32: 04 | G32: 12 | H32: 17900 | I32: 200 | J32: =J33 -> 0 | K32: =K33 -> 0 | L32: =L33 -> 0
A33: Иные закупки товаров, работ и услуг для обеспечения государственных (муниципальных) нужд | B33: 51 | C33: 0 | D33: 01 | E33: 851 | F33: 04 | G33: 12 | H33: 17900 | I33: 240 | J33: ='3.ВС'!J37 -> 0 | K33: ='3.ВС'!K37 -> 0 | L33: ='3.ВС'!L37 -> 0
A34: Обеспечение деятельности главы местной администрации (исполнительно-распорядительного органа муниципального образования) | B34: 51 | C34: 0 | D34: 01 | E34: 851 | F34: 01 | G34: 04 | H34: 80020 | J34: =J35 -> 0 | K34: =K35 -> 0 | L34: =L35 -> 0
A35: Расходы на выплаты персоналу в целях обеспечения выполнения функций государственными (муниципальными) органами, казенными учреждениями, органами управления государственными внебюджетными фондами | B35: 51 | C35: 0 | D35: 01 | E35: 851 | F35: 01 | G35: 04 | H35: 80020 | I35: 100 | J35: =J36 -> 0 | K35: =K36 -> 0 | L35: =L36 -> 0
A36: Расходы на выплаты персоналу государственных (муниципальных) органов | B36: 51 | C36: 0 | D36: 01 | E36: 851 | F36: 01 | G36: 04 | H36: 80020 | I36: 120 | J36: ='3.ВС'!J40 -> 0 | K36: ='3.ВС'!K40 -> 0 | L36: ='3.ВС'!L40 -> 0
A37: Руководство и управление в сфере установленных функций органов местного самоуправления | B37: 51 | C37: 0 | D37: 01 | E37: 851 | F37: 01 | G37: 04 | H37: 80040 | J37: =J38+J40+J42 -> 0 | K37: =K38+K40+K42 -> 0 | L37: =L38+L40+L42 -> 0
A38: Расходы на выплаты персоналу в целях обеспечения выполнения функций государственными (муниципальными) органами, казенными учреждениями, органами управления государственными внебюджетными фондами | B38: 51 | C38: 0 | D38: 01 | E38: 851 | F38: 01 | G38: 04 | H38: 80040 | I38: 100 | J38: =J39 -> 0 | K38: =K39 -> 0 | L38: =L39 -> 0
A39: Расходы на выплаты персоналу государственных (муниципальных) органов | B39: 51 | C39: 0 | D39: 01 | E39: 851 | F39: 01 | G39: 04 | H39: 80040 | I39: 120 | J39: ='3.ВС'!J43 -> 0 | K39: ='3.ВС'!K43 -> 0 | L39: ='3.ВС'!L43 -> 0
A40: Закупка товаров, работ и услуг для обеспечения государственных (муниципальных) нужд | B40: 51 | C40: 0 | D40: 01 | E40: 851 | F40: 01 | G40: 04 | H40: 80040 | I40: 200 | J40: =J41 -> 0 | K40: =K41 -> 0 | L40: =L41 -> 0
...

Sheet 8.Ист
E1: Приложение5
E2: к Решению Клетнянского районного Совета народных депутатов "О внесении изменений в Решение Клетнянского районного Совета народных депутатов "О бюджете Клетнянского муниципального района Брянской области на 2026 год и на плановый период 2027 и 2028 годов"
E3: Приложение 8
E4: к Решению Клетнянского районного Совета народных депутатов "О бюджете Клетнянского муниципального района Брянской области на 2026 год и на плановый период 2027 и 2028 годов"
A5: ИСТОЧНИКИ
A6: внутреннего финансирования дефицита бюджета Клетнянского муниципального района Брянской области на 2026 год и на плановый период 2027 и 2028 годов
G7: рублей
B8: КБК | C8: НАИМЕНОВАНИЕ | E8: 2026 год | F8: 2027 год | G8: 2028 год
A9: 853 | B9: 01 00 00 00 00 0000 000 | C9: Источники внутреннего финансирования дефицитов бюджетов | E9: =E10 -> 20573438 | F9: =F10 -> 0 | G9: =G10 -> 0
A10: 853 | B10: 01 05 00 00 00 0000 000 | C10: Изменение остатков средств на счетах по учету средств бюджета | E10: =E11+E15 -> 20573438 | F10: =F11+F15 -> 0 | G10: =G11+G15 -> 0
A11: 853 | B11: 01 05 00 00 00 0000 500 | C11: Увеличение остатков средств бюджетов | E11: =E12 -> -12341564 | F11: =F12 -> 0 | G11: =G12 -> 0
A12: 853 | B12: 01 05 02 00 00 0000 500 | C12: Увеличение прочих остатков средств бюджетов | E12: =E13 -> -12341564 | F12: =F13 -> 0 | G12: =G13 -> 0
A13: 853 | B13: 01 05 02 01 00 0000 510 | C13: Увеличение прочих остатков денежных средств бюджетов | E13: =E14 -> -12341564 | F13: =F14 -> 0 | G13: =G14 -> 0
A14: 853 | B14: 01 05 02 01 05 0000 510 | C14: Увеличение прочих остатков денежных средств бюджетов муниципальных районов | E14: =-13852611.07+1562473.4-51426.4 -> -12341564
A15: 853 | B15: 01 05 00 00 00 0000 600 | C15: Уменьшение остатков средств бюджетов | E15: =E16 -> 32915002 | F15: =F16 -> 0 | G15: =G16 -> 0
A16: 853 | B16: 01 05 02 00 00 0000 600 | C16: Уменьшение прочих остатков средств бюджетов | E16: =E17 -> 32915002 | F16: =F17 -> 0 | G16: =G17 -> 0
A17: 853 | B17: 01 05 02 01 00 0000 610 | C17: Уменьшение прочих остатков денежных средств бюджетов | E17: =E18 -> 32915002 | F17: =F18 -> 0 | G17: =G18 -> 0
A18: 853 | B18: 01 05 02 01 05 0000 610 | C18: Уменьшение прочих остатков денежных средств бюджетов муниципальных районов | E18: 32915002
C19: Итого источников внутреннего финансирования дефицита | E19: =E11+E15 -> 20573438 | F19: =F11+F15 -> 0 | G19: =G11+G15 -> 0
E21: ='1.Дох'!C92-'3.ВС'!J440 -> 51426.4
D22: дох | E22: =[2]Дох.!C131 -> 1.9213489e+08 | F22: =[2]Дох.!D131 -> 1.9314779e+08 | G22: =[2]Дох.!E131 -> 52107712
D23: расх | E23: =[2]Функц.!P441 -> 2.0120935e+08 | F23: =[2]Функц.!Q441 -> 2.0222225e+08 | G23: =[2]Функц.!R441 -> 50516008
E24: =[3]Остатки!$C$1 -> 32915002 | F24: =F22-F23 -> -9074461 | G24: =G22-G23 -> 1591704.1

Sheet ОМ ПСР
A3: Ведомственная структура расходов бюджета Клетнянского муниципального района Брянской области на 2021 год и на плановый период 2022 и 2023 годов
I4: 2020 | N4: 2024
A5: Наименование | E5: Гл | F5: Рз | G5: Пр | H5: ЦСР | I5: МП | J5: ПП | K5: ОМ | L5: НР | N5: МП | O5: код типа структурного элемента | P5: код структурного элемента | Q5: НР
A6: Администрация Клетнянского района | E6: 851
A7: Обеспечение эффективной деятельности главы и аппарата исполнительно-распорядительного органа муниципального образования | P7: 01
A8: Профилактика безнадзорности и правонарушений несовершеннолетних, организация деятельности административных комиссий и определение перечня должностных лиц органов местного самоуправления, уполномоченных составлять протоколы об административных правонарушениях | E8: 851 | F8: 01 | G8: 13 | H8: 51 0 11 12020 | I8: 51 | J8: 0 | K8: 11 | L8: 12020 | M8: 51 4 01 12020 | N8: 51 | O8: 4 | P8: 01 | Q8: 12020
A9: Осуществление отдельных полномочий в области охраны труда и уведомительной регистрации территориальных соглашений и коллективных договоров | E9: 851 | F9: 04 | G9: 12 | H9: 51 0 11 17900 | I9: 51 | K9: 11 | L9: 17900 | N9: 51 | O9: 4 | P9: 01 | Q9: 17900
A10: Проведение Всероссийской переписи населения 2020 года | E10: 851 | F10: 01 | G10: 13 | H10: 51 0 11 54690 | I10: 51 | J10: 0 | K10: 11 | L10: 54690 | N10: 51 | O10: 4 | P10: 01 | Q10: 54690
A11: Обеспечение деятельности главы местной администрации (исполнительно-распорядительного органа муниципального образования) | E11: 851 | F11: 01 | G11: 04 | H11: 51 0 11 80020 | I11: 51 | J11: 0 | K11: 11 | L11: 80020 | M11: 51 4 01 80020 | N11: 51 | O11: 4 | P11: 01 | Q11: 80020 | R11: 4 | S11: основные мероприятия муниципальных программ | X11: 01 | Y11: Создание условий для эффективной деятельности главы и аппарата исполнительно-распорядительного органа муниципального образования
A12: Руководство и управление в сфере установленных функций органов местного самоуправления | E12: 851 | F12: 01 | G12: 04 | H12: 51 0 11 80040 | I12: 51 | J12: 0 | K12: 11 | L12: 80040 | M12: 51 4 01 80040 | N12: 51 | O12: 4 | P12: 01 | Q12: 80040 | R12: 4 | X12: 01
A13: Информационное освещение деятельности органов местного самоуправления | E13: 851 | F13: 01 | G13: 04 | H13: 51 0 11 80070 | I13: 51 | J13: 0 | K13: 11 | L13: 80070 | M13: 51 0 01 80070 | N13: 51 | O13: 4 | P13: 01 | Q13: 80070
A14: Опубликование нормативных правовых актов муниципальных образований и иной официальной информации | E14: 851 | F14: 01 | G14: 04 | H14: 51 0 11 80100 | I14: 51 | J14: 0 | K14: 11 | L14: 80100 | M14: 51 0 01 80100 | N14: 51 | O14: 4 | P14: 01 | Q14: 80100
