Workbook

Sheet 3.ВС (2)
H1: Приложение 3
H2: к Решению Клетнянского районного Совета народных депутатов "О бюджете Клетнянского муниципального района Брянской области на 2026 год и на плановый период 2027 и 2028 годов
A3: Ведомственная структура расходов бюджета Клетнянского муниципального района Брянской области на 2026 год и на плановый период 2027 и 2028 годов
L4: рублей
A5: Наименование | E5: Гл | F5: Рз | G5: Пр | H5: ЦСР | I5: ВР | J5: 2026 год | K5: 2027 год | L5: 2028 год
A7: Администрация Клетнянского района | E7: 851 | J7: =J8+J84+J91+J103+J136+J148+J153+J167+J204+J218 -> 1.5841859e+08 | K7: =K8+K84+K91+K103+K136+K148+K153+K167+K204+K218 -> 1.7946826e+08 | L7: =L8+L84+L91+L103+L136+L148+L153+L167+L204+L218 -> 1.4674778e+08
A8: Общегосударственные вопросы | E8: 851 | F8: 01 | J8: =J9+J67+J71 -> 47265937 | K8: =K9+K67+K71 -> 42654266 | L8: =L9+L67+L71 -> 42654620
A9: Функционирование Правительства Российской Федерации, высших исполнительных органов субъектов Российской Федерации, местных администраций | E9: 851 | F9: 01 | G9: 04 | J9: =J10+J15+J20+J23+J28+J33+J36+J52+J43+J46+J49+J55+J58+J61+J64 -> 41242558 | K9: =K10+K15+K20+K23+K28+K33+K36+K52+K43+K46+K49+K55+K58+K61+K64 -> 37253558 | L9: =L10+L15+L20+L23+L28+L33+L36+L52+L43+L46+L49+L55+L58+L61+L64 -> 37253558
A10: Осуществление отдельных государственных полномочий Брянской области в сфере деятельности по профилактике безнадзорности и правонарушений несовершеннолетних, организации деятельности административных комиссий и определения перечня должностных лиц органов местного самоуправления, уполномоченных составлять протоколы об административных правонарушениях (осуществление отдельных государственных полномочий Брянской области в сфере деятельности по профилактике безнадзорности и правонарушений несовершеннолетних) | E10: 851 | F10: 01 | G10: 04 | H10: 51 4 01 12021 | J10: =J11+J13 -> 766676 | K10: =K11+K13 -> 766676 | L10: =L11+L13 -> 766676
A11: Расходы на выплаты персоналу в целях обеспечения выполнения функций государственными (муниципальными) органами, казенными учреждениями, органами управления государственными внебюджетными фондами | E11: 851 | F11: 01 | G11: 04 | H11: 51 4 01 12021 | I11: 100 | J11: =J12 -> 747400 | K11: =K12 -> 747400 | L11: =L12 -> 747400
A12: Расходы на выплаты персоналу государственных (муниципальных) органов | E12: 851 | F12: 01 | G12: 04 | H12: 51 4 01 12021 | I12: 120 | J12: 747400 | K12: 747400 | L12: 747400
A13: Закупка товаров, работ и услуг для обеспечения государственных (муниципальных) нужд | E13: 851 | F13: 01 | G13: 04 | H13: 51 4 01 12021 | I13: 200 | J13: =J14 -> 19276 | K13: =K14 -> 19276 | L13: =L14 -> 19276
A14: Иные закупки товаров, работ и услуг для обеспечения государственных (муниципальных) нужд | E14: 851 | F14: 01 | G14: 04 | H14: 51 4 01 12021 | I14: 240 | J14: 19276 | K14: 19276 | L14: 19276
A15: Осуществление отдельных государственных полномочий Брянской области в сфере деятельности по профилактике безнадзорности и правонарушений несовершеннолетних, организации деятельности административных комиссий и определения перечня должностных лиц органов местного самоуправления, уполномоченных составлять протоколы об административных правонарушениях (осуществление отдельных государственных полномочий Брянской области по организации деятельности административных комиссий) | E15: 851 | F15: 01 | G15: 04 | H15: 51 4 01 12022 | J15: =J16+J18 -> 766676 | K15: =K16+K18 -> 766676 | L15: =L16+L18 -> 766676
A16: Расходы на выплаты персоналу в целях обеспечения выполнения функций государственными (муниципальными) органами, казенными учреждениями, органами управления государственными внебюджетными фондами | E16: 851 | F16: 01 | G16: 04 | H16: 51 4 01 12022 | I16: 100 | J16: =J17 -> 704100 | K16: =K17 -> 704100 | L16: =L17 -> 704100
A17: Расходы на выплаты персоналу государственных (муниципальных) органов | E17: 851 | F17: 01 | G17: 04 | H17: 51 4 01 12022 | I17: 120 | J17: 704100 | K17: 704100 | L17: 704100
A18: Закупка товаров, работ и услуг для обеспечения государственных (муниципальных) нужд | E18: 851 | F18: 01 | G18: 04 | H18: 51 4 01 12022 | I18: 200 | J18: =J19 -> 62576 | K18: =K19 -> 62576 | L18: =L19 -> 62576
A19: Иные закупки товаров, работ и услуг для обеспечения государственных (муниципальных) нужд | E19: 851 | F19: 01 | G19: 04 | H19: 51 4 01 12022 | I19: 240 | J19: 62576 | K19: 62576 | L19: 62576
A20: Осуществление отдельных государственных полномочий Брянской области в сфере деятельности по профилактике безнадзорности и правонарушений несовершеннолетних, организации деятельности административных комиссий и определения перечня должностных лиц органов местного самоуправления, уполномоченных составлять протоколы об административных правонарушениях (осуществление отдельных государственных полномочий Брянской области по определению перечня должностных лиц органов местного самоуправления, уполномоченных составлять протоколы об административных правонарушениях) | E20: 851 | F20: 01 | G20: 04 | H20: 51 4 01 12023 | J20: =J21 -> 400 | K20: =K21 -> 400 | L20: =L21 -> 400
A21: Закупка товаров, работ и услуг для обеспечения государственных (муниципальных) нужд | E21: 851 | F21: 01 | G21: 04 | H21: 51 4 01 12023 | I21: 200 | J21: =J22 -> 400 | K21: =K22 -> 400 | L21: =L22 -> 400
A22: Иные закупки товаров, работ и услуг для обеспечения государственных (муниципальных) нужд | E22: 851 | F22: 01 | G22: 04 | H22: 51 4 01 12023 | I22: 240 | J22: 400 | K22: 400 | L22: 400
A23: Установление регулируемых тарифов на регулярные перевозки пассажиров и багажа автомобильным транспортом и городским наземным электрическим транспортом по муниципальным маршрутам регулярных перевозок | E23: 851 | F23: 01 | G23: 04 | H23: 51 4 01 17390 | J23: =J24+J26 -> 76668 | K23: =K24+K26 -> 76668 | L23: =L24+L26 -> 76668
A24: Расходы на выплаты персоналу в целях обеспечения выполнения функций государственными (муниципальными) органами, казенными учреждениями, органами управления государственными внебюджетными фондами | E24: 851 | F24: 01 | G24: 04 | H24: 51 4 01 17390 | I24: 100 | J24: =J25 -> 54850 | K24: =K25 -> 54850 | L24: =L25 -> 54850
A25: Расходы на выплаты персоналу государственных (муниципальных) органов | E25: 851 | F25: 01 | G25: 04 | H25: 51 4 01 17390 | I25: 120 | J25: 54850 | K25: 54850 | L25: 54850
A26: Закупка товаров, работ и услуг для обеспечения государственных (муниципальных) нужд | E26: 851 | F26: 01 | G26: 04 | H26: 51 4 01 17390 | I26: 200 | J26: =J27 -> 21818 | K26: =K27 -> 21818 | L26: =L27 -> 21818
A27: Иные закупки товаров, работ и услуг для обеспечения государственных (муниципальных) нужд | E27: 851 | F27: 01 | G27: 04 | H27: 51 4 01 17390 | I27: 240 | J27: 21818 | K27: 21818 | L27: 21818
A28: Осуществление отдельных полномочий в области охраны труда и уведомительной регистрации территориальных соглашений и коллективных договоров | E28: 851 | F28: 01 | G28: 04 | H28: 51 4 01 17900 | J28: =J29+J31 -> 383338 | K28: =K29+K31 -> 383338 | L28: =L29+L31 -> 383338
A29: Расходы на выплаты персоналу в целях обеспечения выполнения функций государственными (муниципальными) органами, казенными учреждениями, органами управления государственными внебюджетными фондами | E29: 851 | F29: 01 | G29: 04 | H29: 51 4 01 17900 | I29: 100 | J29: =J30 -> 288500 | K29: =K30 -> 288500 | L29: =L30 -> 288500
A30: Расходы на выплаты персоналу государственных (муниципальных) органов | E30: 851 | F30: 01 | G30: 04 | H30: 51 4 01 17900 | I30: 120 | J30: 288500 | K30: 288500 | L30: 288500
A31: Закупка товаров, работ и услуг для обеспечения государственных (муниципальных) нужд | E31: 851 | F31: 01 | G31: 04 | H31: 51 4 01 17900 | I31: 200 | J31: =J32 -> 94838 | K31: =K32 -> 94838 | L31: =L32 -> 94838
A32: Иные закупки товаров, работ и услуг для обеспечения государственных (муниципальных) нужд | E32: 851 | F32: 01 | G32: 04 | H32: 51 4 01 17900 | I32: 240 | J32: 94838 | K32: 94838 | L32: 94838
A33: Обеспечение деятельности главы местной администрации (исполнительно-распорядительного органа муниципального образования) | E33: 851 | F33: 01 | G33: 04 | H33: 51 4 01 80020 | J33: =J34 -> 2348200 | K33: =K34 -> 2348200 | L33: =L34 -> 2348200
A34: Расходы на выплаты персоналу в целях обеспечения выполнения функций государственными (муниципальными) органами, казенными учреждениями, органами управления государственными внебюджетными фондами | E34: 851 | F34: 01 | G34: 04 | H34: 51 4 01 80020 | I34: 100 | J34: =J35 -> 2348200 | K34: =K35 -> 2348200 | L34: =L35 -> 2348200
A35: Расходы на выплаты персоналу государственных (муниципальных) органов | E35: 851 | F35: 01 | G35: 04 | H35: 51 4 01 80020 | I35: 120 | J35: 2348200 | K35: 2348200 | L35: 2348200
A36: Руководство и управление в сфере установленных функций органов местного самоуправления | E36: 851 | F36: 01 | G36: 04 | H36: 51 4 01 80040 | J36: =J37+J39+J41 -> 36616200 | K36: =K37+K39+K41 -> 32905200 | L36: =L37+L39+L41 -> 32905200
A37: Расходы на выплаты персоналу в целях обеспечения выполнения функций государственными (муниципальными) органами, казенными учреждениями, органами управления государственными внебюджетными фондами | E37: 851 | F37: 01 | G37: 04 | H37: 51 4 01 80040 | I37: 100 | J37: =J38 -> 31483200 | K37: =K38 -> 30067600 | L37: =L38 -> 30067600
A38: Расходы на выплаты персоналу государственных (муниципальных) органов | E38: 851 | F38: 01 | G38: 04 | H38: 51 4 01 80040 | I38: 120 | J38: 31483200 | K38: 30067600 | L38: 30067600
A39: Закупка товаров, работ и услуг для обеспечения государственных (муниципальных) нужд | E39: 851 | F39: 01 | G39: 04 | H39: 51 4 01 80040 | I39: 200 | J39: =J40 -> 5034700 | K39: =K40 -> 2739300 | L39: =L40 -> 2739300
A40: Иные закупки товаров, работ и услуг для обеспечения государственных (муниципальных) нужд | E40: 851 | F40: 01 | G40: 04 | H40: 51 4 01 80040 | I40: 240 | J40: 5034700 | K40: 2739300 | L40: 2739300
A41: Иные бюджетные ассигнования | E41: 851 | F41: 01 | G41: 04 | H41: 51 4 01 80040 | I41: 800 | J41: =J42 -> 98300 | K41: =K42 -> 98300 | L41: =L42 -> 98300
...

Sheet 3.ВС
H1: Приложение 3
H2: к Решению Клетнянского районного Совета народных депутатов "О бюджете Клетнянского муниципального района Брянской области на 2026 год и на плановый период 2027 и 2028 годов
A5: =UPPER(A6) -> ВЕДОМСТВЕННАЯ СТРУКТУРА РАСХОДОВ БЮДЖЕТА КЛЕТНЯНСКОГО МУНИЦИПАЛЬНОГО РАЙОНА БРЯНСКОЙ ОБЛАСТИ НА 2026 ГОД И НА ПЛАНОВЫЙ ПЕРИОД 2027 И 2028 ГОДОВ
A6: Ведомственная структура расходов бюджета Клетнянского муниципального района Брянской области на 2026 год и на плановый период 2027 и 2028 годов | M6: 2026 | P6: 2027 | S6: 2028
L7: рублей | M7: было | N7: +/- | O7: стало | P7: было | Q7: +/- | R7: стало | S7: было | T7: +/- | U7: стало
A8: Наименование | E8: Гл | F8: Рз | G8: Пр | H8: ЦСР | I8: ВР | J8: 2026 год | K8: 2027 год | L8: 2028 год
A10: Администрация Клетнянского района | E10: 851 | J10: =J11+J87+J94+J106+J142+J163+J168+J182+J222+J240 -> 4.304188e+08 | K10: =K11+K87+K94+K106+K142+K163+K168+K182+K222+K240 -> 1.8011994e+08 | L10: =L11+L87+L94+L106+L142+L163+L168+L182+L222+L240 -> 1.4892004e+08 | M10: ='3.ВС (2)'!J7 -> 1.5841859e+08 | N10: =O10-M10 -> 2.7200021e+08 | O10: =J10 -> 4.304188e+08 | P10: ='3.ВС (2)'!K7 -> 1.7946826e+08 | Q10: =R10-P10 -> 651673.81 | R10: =K10 -> 1.8011994e+08 | S10: ='3.ВС (2)'!L7 -> 1.4674778e+08 | T10: =U10-S10 -> 2172258.3 | U10: =L10 -> 1.4892004e+08
A11: Общегосударственные вопросы | E11: 851 | F11: 01 | J11: =J12+J70+J74 -> 47809707 | K11: =K12+K70+K74 -> 39320135 | L11: =L12+L70+L74 -> 42654620 | M11: ='3.ВС (2)'!J8 -> 47265937 | N11: =O11-M11 -> 543770 | O11: =J11 -> 47809707 | P11: ='3.ВС (2)'!K8 -> 42654266 | Q11: =R11-P11 -> -3334131 | R11: =K11 -> 39320135 | S11: ='3.ВС (2)'!L8 -> 42654620 | T11: =U11-S11 -> 0 | U11: =L11 -> 42654620
A12: Функционирование Правительства Российской Федерации, высших исполнительных органов субъектов Российской Федерации, местных администраций | E12: 851 | F12: 01 | G12: 04 | J12: =J13+J18+J23+J26+J31+J36+J39+J55+J46+J49+J52+J58+J61+J64+J67 -> 41786328 | K12: =K13+K18+K23+K26+K31+K36+K39+K55+K46+K49+K52+K58+K61+K64+K67 -> 33919427 | L12: =L13+L18+L23+L26+L31+L36+L39+L55+L46+L49+L52+L58+L61+L64+L67 -> 37253558 | M12: ='3.ВС (2)'!J9 -> 41242558 | N12: =O12-M12 -> 543770 | O12: =J12 -> 41786328 | P12: ='3.ВС (2)'!K9 -> 37253558 | Q12: =R12-P12 -> -3334131 | R12: =K12 -> 33919427 | S12: ='3.ВС (2)'!L9 -> 37253558 | T12: =U12-S12 -> 0 | U12: =L12 -> 37253558
A13: Осуществление отдельных государственных полномочий Брянской области в сфере деятельности по профилактике безнадзорности и правонарушений несовершеннолетних, организации деятельности административных комиссий и определения перечня должностных лиц органов местного самоуправления, уполномоченных составлять протоколы об административных правонарушениях (осуществление отдельных государственных полномочий Брянской области в сфере деятельности по профилактике безнадзорности и правонарушений несовершеннолетних) | E13: 851 | F13: 01 | G13: 04 | H13: 51 4 01 12021 | J13: =J14+J16 -> 766676 | K13: =K14+K16 -> 766676 | L13: =L14+L16 -> 766676 | M13: ='3.ВС (2)'!J10 -> 766676 | N13: =O13-M13 -> 0 | O13: =J13 -> 766676 | P13: ='3.ВС (2)'!K10 -> 766676 | Q13: =R13-P13 -> 0 | R13: =K13 -> 766676 | S13: ='3.ВС (2)'!L10 -> 766676 | T13: =U13-S13 -> 0 | U13: =L13 -> 766676
A14: Расходы на выплаты персоналу в целях обеспечения выполнения функций государственными (муниципальными) органами, казенными учреждениями, органами управления государственными внебюджетными фондами | E14: 851 | F14: 01 | G14: 04 | H14: 51 4 01 12021 | I14: 100 | J14: =J15 -> 747400 | K14: =K15 -> 747400 | L14: =L15 -> 747400 | M14: ='3.ВС (2)'!J11 -> 747400 | N14: =O14-M14 -> 0 | O14: =J14 -> 747400 | P14: ='3.ВС (2)'!K11 -> 747400 | Q14: =R14-P14 -> 0 | R14: =K14 -> 747400 | S14: ='3.ВС (2)'!L11 -> 747400 | T14: =U14-S14 -> 0 | U14: =L14 -> 747400
A15: Расходы на выплаты персоналу государственных (муниципальных) органов | E15: 851 | F15: 01 | G15: 04 | H15: 51 4 01 12021 | I15: 120 | J15: 747400 | K15: 747400 | L15: 747400 | M15: ='3.ВС (2)'!J12 -> 747400 | N15: =O15-M15 -> 0 | O15: =J15 -> 747400 | P15: ='3.ВС (2)'!K12 -> 747400 | Q15: =R15-P15 -> 0 | R15: =K15 -> 747400 | S15: ='3.ВС (2)'!L12 -> 747400 | T15: =U15-S15 -> 0 | U15: =L15 -> 747400
A16: Закупка товаров, работ и услуг для обеспечения государственных (муниципальных) нужд | E16: 851 | F16: 01 | G16: 04 | H16: 51 4 01 12021 | I16: 200 | J16: =J17 -> 19276 | K16: =K17 -> 19276 | L16: =L17 -> 19276 | M16: ='3.ВС (2)'!J13 -> 19276 | N16: =O16-M16 -> 0 | O16: =J16 -> 19276 | P16: ='3.ВС (2)'!K13 -> 19276 | Q16: =R16-P16 -> 0 | R16: =K16 -> 19276 | S16: ='3.ВС (2)'!L13 -> 19276 | T16: =U16-S16 -> 0 | U16: =L16 -> 19276
A17: Иные закупки товаров, работ и услуг для обеспечения государственных (муниципальных) нужд | E17: 851 | F17: 01 | G17: 04 | H17: 51 4 01 12021 | I17: 240 | J17: 19276 | K17: 19276 | L17: 19276 | M17: ='3.ВС (2)'!J14 -> 19276 | N17: =O17-M17 -> 0 | O17: =J17 -> 19276 | P17: ='3.ВС (2)'!K14 -> 19276 | Q17: =R17-P17 -> 0 | R17: =K17 -> 19276 | S17: ='3.ВС (2)'!L14 -> 19276 | T17: =U17-S17 -> 0 | U17: =L17 -> 19276
A18: Осуществление отдельных государственных полномочий Брянской области в сфере деятельности по профилактике безнадзорности и правонарушений несовершеннолетних, организации деятельности административных комиссий и определения перечня должностных лиц органов местного самоуправления, уполномоченных составлять протоколы об административных правонарушениях (осуществление отдельных государственных полномочий Брянской области по организации деятельности административных комиссий) | E18: 851 | F18: 01 | G18: 04 | H18: 51 4 01 12022 | J18: =J19+J21 -> 766676 | K18: =K19+K21 -> 766676 | L18: =L19+L21 -> 766676 | M18: ='3.ВС (2)'!J15 -> 766676 | N18: =O18-M18 -> 0 | O18: =J18 -> 766676 | P18: ='3.ВС (2)'!K15 -> 766676 | Q18: =R18-P18 -> 0 | R18: =K18 -> 766676 | S18: ='3.ВС (2)'!L15 -> 766676 | T18: =U18-S18 -> 0 | U18: =L18 -> 766676
A19: Расходы на выплаты персоналу в целях обеспечения выполнения функций государственными (муниципальными) органами, казенными учреждениями, органами управления государственными внебюджетными фондами | E19: 851 | F19: 01 | G19: 04 | H19: 51 4 01 12022 | I19: 100 | J19: =J20 -> 704100 | K19: =K20 -> 704100 | L19: =L20 -> 704100 | M19: ='3.ВС (2)'!J16 -> 704100 | N19: =O19-M19 -> 0 | O19: =J19 -> 704100 | P19: ='3.ВС (2)'!K16 -> 704100 | Q19: =R19-P19 -> 0 | R19: =K19 -> 704100 | S19: ='3.ВС (2)'!L16 -> 704100 | T19: =U19-S19 -> 0 | U19: =L19 -> 704100
A20: Расходы на выплаты персоналу государственных (муниципальных) органов | E20: 851 | F20: 01 | G20: 04 | H20: 51 4 01 12022 | I20: 120 | J20: 704100 | K20: 704100 | L20: 704100 | M20: ='3.ВС (2)'!J17 -> 704100 | N20: =O20-M20 -> 0 | O20: =J20 -> 704100 | P20: ='3.ВС (2)'!K17 -> 704100 | Q20: =R20-P20 -> 0 | R20: =K20 -> 704100 | S20: ='3.ВС (2)'!L17 -> 704100 | T20: =U20-S20 -> 0 | U20: =L20 -> 704100
A21: Закупка товаров, работ и услуг для обеспечения государственных (муниципальных) нужд | E21: 851 | F21: 01 | G21: 04 | H21: 51 4 01 12022 | I21: 200 | J21: =J22 -> 62576 | K21: =K22 -> 62576 | L21: =L22 -> 62576 | M21: ='3.ВС (2)'!J18 -> 62576 | N21: =O21-M21 -> 0 | O21: =J21 -> 62576 | P21: ='3.ВС (2)'!K18 -> 62576 | Q21: =R21-P21 -> 0 | R21: =K21 -> 62576 | S21: ='3.ВС (2)'!L18 -> 62576 | T21: =U21-S21 -> 0 | U21: =L21 -> 62576
A22: Иные закупки товаров, работ и услуг для обеспечения государственных (муниципальных) нужд | E22: 851 | F22: 01 | G22: 04 | H22: 51 4 01 12022 | I22: 240 | J22: 62576 | K22: 62576 | L22: 62576 | M22: ='3.ВС (2)'!J19 -> 62576 | N22: =O22-M22 -> 0 | O22: =J22 -> 62576 | P22: ='3.ВС (2)'!K19 -> 62576 | Q22: =R22-P22 -> 0 | R22: =K22 -> 62576 | S22: ='3.ВС (2)'!L19 -> 62576 | T22: =U22-S22 -> 0 | U22: =L22 -> 62576
A23: Осуществление отдельных государственных полномочий Брянской области в сфере деятельности по профилактике безнадзорности и правонарушений несовершеннолетних, организации деятельности административных комиссий и определения перечня должностных лиц органов местного самоуправления, уполномоченных составлять протоколы об административных правонарушениях (осуществление отдельных государственных полномочий Брянской области по определению перечня должностных лиц органов местного самоуправления, уполномоченных составлять протоколы об административных правонарушениях) | E23: 851 | F23: 01 | G23: 04 | H23: 51 4 01 12023 | J23: =J24 -> 400 | K23: =K24 -> 400 | L23: =L24 -> 400 | M23: ='3.ВС (2)'!J20 -> 400 | N23: =O23-M23 -> 0 | O23: =J23 -> 400 | P23: ='3.ВС (2)'!K20 -> 400 | Q23: =R23-P23 -> 0 | R23: =K23 -> 400 | S23: ='3.ВС (2)'!L20 -> 400 | T23: =U23-S23 -> 0 | U23: =L23 -> 400
A24: Закупка товаров, работ и услуг для обеспечения государственных (муниципальных) нужд | E24: 851 | F24: 01 | G24: 04 | H24: 51 4 01 12023 | I24: 200 | J24: =J25 -> 400 | K24: =K25 -> 400 | L24: =L25 -> 400 | M24: ='3.ВС (2)'!J21 -> 400 | N24: =O24-M24 -> 0 | O24: =J24 -> 400 | P24: ='3.ВС (2)'!K21 -> 400 | Q24: =R24-P24 -> 0 | R24: =K24 -> 400 | S24: ='3.ВС (2)'!L21 -> 400 | T24: =U24-S24 -> 0 | U24: =L24 -> 400
A25: Иные закупки товаров, работ и услуг для обеспечения государственных (муниципальных) нужд | E25: 851 | F25: 01 | G25: 04 | H25: 51 4 01 12023 | I25: 240 | J25: 400 | K25: 400 | L25: 400 | M25: ='3.ВС (2)'!J22 -> 400 | N25: =O25-M25 -> 0 | O25: =J25 -> 400 | P25: ='3.ВС (2)'!K22 -> 400 | Q25: =R25-P25 -> 0 | R25: =K25 -> 400 | S25: ='3.ВС (2)'!L22 -> 400 | T25: =U25-S25 -> 0 | U25: =L25 -> 400
A26: Установление регулируемых тарифов на регулярные перевозки пассажиров и багажа автомобильным транспортом и городским наземным электрическим транспортом по муниципальным маршрутам регулярных перевозок | E26: 851 | F26: 01 | G26: 04 | H26: 51 4 01 17390 | J26: =J27+J29 -> 76668 | K26: =K27+K29 -> 76668 | L26: =L27+L29 -> 76668 | M26: ='3.ВС (2)'!J23 -> 76668 | N26: =O26-M26 -> 0 | O26: =J26 -> 76668 | P26: ='3.ВС (2)'!K23 -> 76668 | Q26: =R26-P26 -> 0 | R26: =K26 -> 76668 | S26: ='3.ВС (2)'!L23 -> 76668 | T26: =U26-S26 -> 0 | U26: =L26 -> 76668
A27: Расходы на выплаты персоналу в целях обеспечения выполнения функций государственными (муниципальными) органами, казенными учреждениями, органами управления государственными внебюджетными фондами | E27: 851 | F27: 01 | G27: 04 | H27: 51 4 01 17390 | I27: 100 | J27: =J28 -> 54850 | K27: =K28 -> 54850 | L27: =L28 -> 54850 | M27: ='3.ВС (2)'!J24 -> 54850 | N27: =O27-M27 -> 0 | O27: =J27 -> 54850 | P27: ='3.ВС (2)'!K24 -> 54850 | Q27: =R27-P27 -> 0 | R27: =K27 -> 54850 | S27: ='3.ВС (2)'!L24 -> 54850 | T27: =U27-S27 -> 0 | U27: =L27 -> 54850
A28: Расходы на выплаты персоналу государственных (муниципальных) органов | E28: 851 | F28: 01 | G28: 04 | H28: 51 4 01 17390 | I28: 120 | J28: 54850 | K28: 54850 | L28: 54850 | M28: ='3.ВС (2)'!J25 -> 54850 | N28: =O28-M28 -> 0 | O28: =J28 -> 54850 | P28: ='3.ВС (2)'!K25 -> 54850 | Q28: =R28-P28 -> 0 | R28: =K28 -> 54850 | S28: ='3.ВС (2)'!L25 -> 54850 | T28: =U28-S28 -> 0 | U28: =L28 -> 54850
A29: Закупка товаров, работ и услуг для обеспечения государственных (муниципальных) нужд | E29: 851 | F29: 01 | G29: 04 | H29: 51 4 01 17390 | I29: 200 | J29: =J30 -> 21818 | K29: =K30 -> 21818 | L29: =L30 -> 21818 | M29: ='3.ВС (2)'!J26 -> 21818 | N29: =O29-M29 -> 0 | O29: =J29 -> 21818 | P29: ='3.ВС (2)'!K26 -> 21818 | Q29: =R29-P29 -> 0 | R29: =K29 -> 21818 | S29: ='3.ВС (2)'!L26 -> 21818 | T29: =U29-S29 -> 0 | U29: =L29 -> 21818
A30: Иные закупки товаров, работ и услуг для обеспечения государственных (муниципальных) нужд | E30: 851 | F30: 01 | G30: 04 | H30: 51 4 01 17390 | I30: 240 | J30: 21818 | K30: 21818 | L30: 21818 | M30: ='3.ВС (2)'!J27 -> 21818 | N30: =O30-M30 -> 0 | O30: =J30 -> 21818 | P30: ='3.ВС (2)'!K27 -> 21818 | Q30: =R30-P30 -> 0 | R30: =K30 -> 21818 | S30: ='3.ВС (2)'!L27 -> 21818 | T30: =U30-S30 -> 0 | U30: =L30 -> 21818
A31: Осуществление отдельных полномочий в области охраны труда и уведомительной регистрации территориальных соглашений и коллективных договоров | E31: 851 | F31: 01 | G31: 04 | H31: 51 4 01 17900 | J31: =J32+J34 -> 383338 | K31: =K32+K34 -> 383338 | L31: =L32+L34 -> 383338 | M31: ='3.ВС (2)'!J28 -> 383338 | N31: =O31-M31 -> 0 | O31: =J31 -> 383338 | P31: ='3.ВС (2)'!K28 -> 383338 | Q31: =R31-P31 -> 0 | R31: =K31 -> 383338 | S31: ='3.ВС (2)'!L28 -> 383338 | T31: =U31-S31 -> 0 | U31: =L31 -> 383338
A32: Расходы на выплаты персоналу в целях обеспечения выполнения функций государственными (муниципальными) органами, казенными учреждениями, органами управления государственными внебюджетными фондами | E32: 851 | F32: 01 | G32: 04 | H32: 51 4 01 17900 | I32: 100 | J32: =J33 -> 288500 | K32: =K33 -> 288500 | L32: =L33 -> 288500 | M32: ='3.ВС (2)'!J29 -> 288500 | N32: =O32-M32 -> 0 | O32: =J32 -> 288500 | P32: ='3.ВС (2)'!K29 -> 288500 | Q32: =R32-P32 -> 0 | R32: =K32 -> 288500 | S32: ='3.ВС (2)'!L29 -> 288500 | T32: =U32-S32 -> 0 | U32: =L32 -> 288500
A33: Расходы на выплаты персоналу государственных (муниципальных) органов | E33: 851 | F33: 01 | G33: 04 | H33: 51 4 01 17900 | I33: 120 | J33: 288500 | K33: 288500 | L33: 288500 | M33: ='3.ВС (2)'!J30 -> 288500 | N33: =O33-M33 -> 0 | O33: =J33 -> 288500 | P33: ='3.ВС (2)'!K30 -> 288500 | Q33: =R33-P33 -> 0 | R33: =K33 -> 288500 | S33: ='3.ВС (2)'!L30 -> 288500 | T33: =U33-S33 -> 0 | U33: =L33 -> 288500
A34: Закупка товаров, работ и услуг для обеспечения государственных (муниципальных) нужд | E34: 851 | F34: 01 | G34: 04 | H34: 51 4 01 17900 | I34: 200 | J34: =J35 -> 94838 | K34: =K35 -> 94838 | L34: =L35 -> 94838 | M34: ='3.ВС (2)'!J31 -> 94838 | N34: =O34-M34 -> 0 | O34: =J34 -> 94838 | P34: ='3.ВС (2)'!K31 -> 94838 | Q34: =R34-P34 -> 0 | R34: =K34 -> 94838 | S34: ='3.ВС (2)'!L31 -> 94838 | T34: =U34-S34 -> 0 | U34: =L34 -> 94838
A35: Иные закупки товаров, работ и услуг для обеспечения государственных (муниципальных) нужд | E35: 851 | F35: 01 | G35: 04 | H35: 51 4 01 17900 | I35: 240 | J35: 94838 | K35: 94838 | L35: 94838 | M35: ='3.ВС (2)'!J32 -> 94838 | N35: =O35-M35 -> 0 | O35: =J35 -> 94838 | P35: ='3.ВС (2)'!K32 -> 94838 | Q35: =R35-P35 -> 0 | R35: =K35 -> 94838 | S35: ='3.ВС (2)'!L32 -> 94838 | T35: =U35-S35 -> 0 | U35: =L35 -> 94838
A36: Обеспечение деятельности главы местной администрации (исполнительно-распорядительного органа муниципального образования) | E36: 851 | F36: 01 | G36: 04 | H36: 51 4 01 80020 | J36: =J37 -> 2348200 | K36: =K37 -> 2348200 | L36: =L37 -> 2348200 | M36: ='3.ВС (2)'!J33 -> 2348200 | N36: =O36-M36 -> 0 | O36: =J36 -> 2348200 | P36: ='3.ВС (2)'!K33 -> 2348200 | Q36: =R36-P36 -> 0 | R36: =K36 -> 2348200 | S36: ='3.ВС (2)'!L33 -> 2348200 | T36: =U36-S36 -> 0 | U36: =L36 -> 2348200
A37: Расходы на выплаты персоналу в целях обеспечения выполнения функций государственными (муниципальными) органами, казенными учреждениями, органами управления государственными внебюджетными фондами | E37: 851 | F37: 01 | G37: 04 | H37: 51 4 01 80020 | I37: 100 | J37: =J38 -> 2348200 | K37: =K38 -> 2348200 | L37: =L38 -> 2348200 | M37: ='3.ВС (2)'!J34 -> 2348200 | N37: =O37-M37 -> 0 | O37: =J37 -> 2348200 | P37: ='3.ВС (2)'!K34 -> 2348200 | Q37: =R37-P37 -> 0 | R37: =K37 -> 2348200 | S37: ='3.ВС (2)'!L34 -> 2348200 | T37: =U37-S37 -> 0 | U37: =L37 -> 2348200
A38: Расходы на выплаты персоналу государственных (муниципальных) органов | E38: 851 | F38: 01 | G38: 04 | H38: 51 4 01 80020 | I38: 120 | J38: 2348200 | K38: 2348200 | L38: 2348200 | M38: ='3.ВС (2)'!J35 -> 2348200 | N38: =O38-M38 -> 0 | O38: =J38 -> 2348200 | P38: ='3.ВС (2)'!K35 -> 2348200 | Q38: =R38-P38 -> 0 | R38: =K38 -> 2348200 | S38: ='3.ВС (2)'!L35 -> 2348200 | T38: =U38-S38 -> 0 | U38: =L38 -> 2348200
A39: Руководство и управление в сфере установленных функций органов местного самоуправления | E39: 851 | F39: 01 | G39: 04 | H39: 51 4 01 80040 | J39: =J40+J42+J44 -> 37159970 | K39: =K40+K42+K44 -> 29571069 | L39: =L40+L42+L44 -> 32905200 | M39: ='3.ВС (2)'!J36 -> 36616200 | N39: =O39-M39 -> 543770 | O39: =J39 -> 37159970 | P39: ='3.ВС (2)'!K36 -> 32905200 | Q39: =R39-P39 -> -3334131 | R39: =K39 -> 29571069 | S39: ='3.ВС (2)'!L36 -> 32905200 | T39: =U39-S39 -> 0 | U39: =L39 -> 32905200
A40: Расходы на выплаты персоналу в целях обеспечения выполнения функций государственными (муниципальными) органами, казенными учреждениями, органами управления государственными внебюджетными фондами | E40: 851 | F40: 01 | G40: 04 | H40: 51 4 01 80040 | I40: 100 | J40: =J41 -> 31483200 | K40: =K41 -> 26733469 | L40: =L41 -> 30067600 | M40: ='3.ВС (2)'!J37 -> 31483200 | N40: =O40-M40 -> 0 | O40: =J40 -> 31483200 | P40: ='3.ВС (2)'!K37 -> 30067600 | Q40: =R40-P40 -> -3334131 | R40: =K40 -> 26733469 | S40: ='3.ВС (2)'!L37 -> 30067600 | T40: =U40-S40 -> 0 | U40: =L40 -> 30067600
A41: Расходы на выплаты персоналу государственных (муниципальных) органов | E41: 851 | F41: 01 | G41: 04 | H41: 51 4 01 80040 | I41: 120 | J41: 31483200 | K41: =30067600-3334131 -> 26733469 | L41: 30067600 | M41: ='3.ВС (2)'!J38 -> 31483200 | N41: =O41-M41 -> 0 | O41: =J41 -> 31483200 | P41: ='3.ВС (2)'!K38 -> 30067600 | Q41: =R41-P41 -> -3334131 | R41: =K41 -> 26733469 | S41: ='3.ВС (2)'!L38 -> 30067600 | T41: =U41-S41 -> 0 | U41: =L41 -> 30067600
A42: Закупка товаров, работ и услуг для обеспечения государственных (муниципальных) нужд | E42: 851 | F42: 01 | G42: 04 | H42: 51 4 01 80040 | I42: 200 | J42: =J43 -> 5578470 | K42: =K43 -> 2739300 | L42: =L43 -> 2739300 | M42: ='3.ВС (2)'!J39 -> 5034700 | N42: =O42-M42 -> 543770 | O42: =J42 -> 5578470 | P42: ='3.ВС (2)'!K39 -> 2739300 | Q42: =R42-P42 -> 0 | R42: =K42 -> 2739300 | S42: ='3.ВС (2)'!L39 -> 2739300 | T42: =U42-S42 -> 0 | U42: =L42 -> 2739300
A43: Иные закупки товаров, работ и услуг для обеспечения государственных (муниципальных) нужд | E43: 851 | F43: 01 | G43: 04 | H43: 51 4 01 80040 | I43: 240 | J43: =5034700+543770 -> 5578470 | K43: 2739300 | L43: 2739300 | M43: ='3.ВС (2)'!J40 -> 5034700 | N43: =O43-M43 -> 543770 | O43: =J43 -> 5578470 | P43: ='3.ВС (2)'!K40 -> 2739300 | Q43: =R43-P43 -> 0 | R43: =K43 -> 2739300 | S43: ='3.ВС (2)'!L40 -> 2739300 | T43: =U43-S43 -> 0 | U43: =L43 -> 2739300
...

Sheet 4.ФС
H1: Приложение 4
H2: к Решению Клетнянского районного Совета народных депутатов "О бюджете Клетнянского муниципального района Брянской области на 2026 год и на плановый период 2027 и 2028 годов
A3: Распределение бюджетных ассигнований по разделам, подразделам, целевым статьям (муниципальным программам и непрограммным направлениям деятельности), группам и подгруппам видов расходов классификации расходов на 2026 год и на плановый период 2027 и 2028 годов
L4: рублей
A5: Наименование | E5: Гл | F5: Рз | G5: Пр | H5: ЦСР | I5: ВР | J5: 2026 год | K5: 2027 год | L5: 2028 год
A6: Общегосударственные вопросы | E6: 854 | F6: 01 | J6: =J7+J13+J71+J75+J93+J97 -> 60997846 | K6: =K7+K13+K71+K75+K93+K97 -> 56423935 | L6: =L7+L13+L71+L75+L93+L97 -> 64541616
A7: Функционирование законодательных (представительных) органов государственной власти и представительных органов муниципальных образований | E7: 854 | F7: 01 | G7: 03 | J7: =J8 -> 648000 | K7: =K8 -> 648000 | L7: =L8 -> 648000
A8: Руководство и управление в сфере установленных функций органов местного самоуправления | E8: 854 | F8: 01 | G8: 03 | H8: 70 0 00 80040 | J8: =J9+J11 -> 648000 | K8: =K9+K11 -> 648000 | L8: =L9+L11 -> 648000
A9: Расходы на выплаты персоналу в целях обеспечения выполнения функций государственными (муниципальными) органами, казенными учреждениями, органами управления государственными внебюджетными фондами | E9: 854 | F9: 01 | G9: 03 | H9: 70 0 00 80040 | I9: 100 | J9: =J10 -> 593700 | K9: =K10 -> 593700 | L9: =L10 -> 593700
A10: Расходы на выплаты персоналу государственных (муниципальных) органов | E10: 854 | F10: 01 | G10: 03 | H10: 70 0 00 80040 | I10: 120 | J10: ='3.ВС'!J414 -> 593700 | K10: ='3.ВС'!K414 -> 593700 | L10: ='3.ВС'!L414 -> 593700
A11: Закупка товаров, работ и услуг для обеспечения государственных (муниципальных) нужд | E11: 854 | F11: 01 | G11: 03 | H11: 70 0 00 80040 | I11: 200 | J11: =J12 -> 54300 | K11: =K12 -> 54300 | L11: =L12 -> 54300
A12: Иные закупки товаров, работ и услуг для обеспечения государственных (муниципальных) нужд | E12: 854 | F12: 01 | G12: 03 | H12: 70 0 00 80040 | I12: 240 | J12: ='3.ВС'!J416 -> 54300 | K12: ='3.ВС'!K416 -> 54300 | L12: ='3.ВС'!L416 -> 54300
A13: Функционирование Правительства Российской Федерации, высших исполнительных органов субъектов Российской Федерации, местных администраций | E13: 851 | F13: 01 | G13: 04 | J13: =J14+J19+J24+J27+J32+J37+J40+J56+J47+J50+J53+J59+J62+J65+J68 -> 41786328 | K13: =K14+K19+K24+K27+K32+K37+K40+K56+K47+K50+K53+K59+K62+K65+K68 -> 33919427 | L13: =L14+L19+L24+L27+L32+L37+L40+L56+L47+L50+L53+L59+L62+L65+L68 -> 37253558
A14: Осуществление отдельных государственных полномочий Брянской области в сфере деятельности по профилактике безнадзорности и правонарушений несовершеннолетних, организации деятельности административных комиссий и определения перечня должностных лиц органов местного самоуправления, уполномоченных составлять протоколы об административных правонарушениях (осуществление отдельных государственных полномочий Брянской области в сфере деятельности по профилактике безнадзорности и правонарушений несовершеннолетних) | E14: 851 | F14: 01 | G14: 04 | H14: 51 4 01 12021 | J14: =J15+J17 -> 766676 | K14: =K15+K17 -> 766676 | L14: =L15+L17 -> 766676
A15: Расходы на выплаты персоналу в целях обеспечения выполнения функций государственными (муниципальными) органами, казенными учреждениями, органами управления государственными внебюджетными фондами | E15: 851 | F15: 01 | G15: 04 | H15: 51 4 01 12021 | I15: 100 | J15: =J16 -> 747400 | K15: =K16 -> 747400 | L15: =L16 -> 747400
A16: Расходы на выплаты персоналу государственных (муниципальных) органов | E16: 851 | F16: 01 | G16: 04 | H16: 51 4 01 12021 | I16: 120 | J16: ='3.ВС'!J15 -> 747400 | K16: ='3.ВС'!K15 -> 747400 | L16: ='3.ВС'!L15 -> 747400
A17: Закупка товаров, работ и услуг для обеспечения государственных (муниципальных) нужд | E17: 851 | F17: 01 | G17: 04 | H17: 51 4 01 12021 | I17: 200 | J17: =J18 -> 19276 | K17: =K18 -> 19276 | L17: =L18 -> 19276
A18: Иные закупки товаров, работ и услуг для обеспечения государственных (муниципальных) нужд | E18: 851 | F18: 01 | G18: 04 | H18: 51 4 01 12021 | I18: 240 | J18: ='3.ВС'!J17 -> 19276 | K18: ='3.ВС'!K17 -> 19276 | L18: ='3.ВС'!L17 -> 19276
A19: Осуществление отдельных государственных полномочий Брянской области в сфере деятельности по профилактике безнадзорности и правонарушений несовершеннолетних, организации деятельности административных комиссий и определения перечня должностных лиц органов местного самоуправления, уполномоченных составлять протоколы об административных правонарушениях (осуществление отдельных государственных полномочий Брянской области по организации деятельности административных комиссий ) | E19: 851 | F19: 01 | G19: 04 | H19: 51 4 01 12022 | J19: =J20+J22 -> 766676 | K19: =K20+K22 -> 766676 | L19: =L20+L22 -> 766676
A20: Расходы на выплаты персоналу в целях обеспечения выполнения функций государственными (муниципальными) органами, казенными учреждениями, органами управления государственными внебюджетными фондами | E20: 851 | F20: 01 | G20: 04 | H20: 51 4 01 12022 | I20: 100 | J20: =J21 -> 704100 | K20: =K21 -> 704100 | L20: =L21 -> 704100
A21: Расходы на выплаты персоналу государственных (муниципальных) органов | E21: 851 | F21: 01 | G21: 04 | H21: 51 4 01 12022 | I21: 120 | J21: ='3.ВС'!J20 -> 704100 | K21: ='3.ВС'!K20 -> 704100 | L21: ='3.ВС'!L20 -> 704100
A22: Закупка товаров, работ и услуг для обеспечения государственных (муниципальных) нужд | E22: 851 | F22: 01 | G22: 04 | H22: 51 4 01 12022 | I22: 200 | J22: =J23 -> 62576 | K22: =K23 -> 62576 | L22: =L23 -> 62576
A23: Иные закупки товаров, работ и услуг для обеспечения государственных (муниципальных) нужд | E23: 851 | F23: 01 | G23: 04 | H23: 51 4 01 12022 | I23: 240 | J23: ='3.ВС'!J22 -> 62576 | K23: ='3.ВС'!K22 -> 62576 | L23: ='3.ВС'!L22 -> 62576
A24: Осуществление отдельных государственных полномочий Брянской области в сфере деятельности по профилактике безнадзорности и правонарушений несовершеннолетних, организации деятельности административных комиссий и определения перечня должностных лиц органов местного самоуправления, уполномоченных составлять протоколы об административных правонарушениях (осуществление отдельных государственных полномочий Брянской области по определению перечня должностных лиц органов местного самоуправления, уполномоченных составлять протоколы об административных правонарушениях) | E24: 851 | F24: 01 | G24: 04 | H24: 51 4 01 12023 | J24: =J25 -> 400 | K24: =K25 -> 400 | L24: =L25 -> 400
A25: Закупка товаров, работ и услуг для обеспечения государственных (муниципальных) нужд | E25: 851 | F25: 01 | G25: 04 | H25: 51 4 01 12023 | I25: 200 | J25: =J26 -> 400 | K25: =K26 -> 400 | L25: =L26 -> 400
A26: Иные закупки товаров, работ и услуг для обеспечения государственных (муниципальных) нужд | E26: 851 | F26: 01 | G26: 04 | H26: 51 4 01 12023 | I26: 240 | J26: ='3.ВС'!J25 -> 400 | K26: ='3.ВС'!K25 -> 400 | L26: ='3.ВС'!L25 -> 400
A27: Установление регулируемых тарифов на регулярные перевозки пассажиров и багажа автомобильным транспортом и городским наземным электрическим транспортом по муниципальным маршрутам регулярных перевозок | E27: 851 | F27: 01 | G27: 04 | H27: 51 4 01 17390 | J27: =J28+J30 -> 76668 | K27: =K28+K30 -> 76668 | L27: =L28+L30 -> 76668
A28: Расходы на выплаты персоналу в целях обеспечения выполнения функций государственными (муниципальными) органами, казенными учреждениями, органами управления государственными внебюджетными фондами | E28: 851 | F28: 01 | G28: 04 | H28: 51 4 01 17390 | I28: 100 | J28: =J29 -> 54850 | K28: =K29 -> 54850 | L28: =L29 -> 54850
A29: Расходы на выплаты персоналу государственных (муниципальных) органов | E29: 851 | F29: 01 | G29: 04 | H29: 51 4 01 17390 | I29: 120 | J29: ='3.ВС'!J28 -> 54850 | K29: ='3.ВС'!K28 -> 54850 | L29: ='3.ВС'!L28 -> 54850
A30: Закупка товаров, работ и услуг для обеспечения государственных (муниципальных) нужд | E30: 851 | F30: 01 | G30: 04 | H30: 51 4 01 17390 | I30: 200 | J30: =J31 -> 21818 | K30: =K31 -> 21818 | L30: =L31 -> 21818
A31: Иные закупки товаров, работ и услуг для обеспечения государственных (муниципальных) нужд | E31: 851 | F31: 01 | G31: 04 | H31: 51 4 01 17390 | I31: 240 | J31: ='3.ВС'!J30 -> 21818 | K31: ='3.ВС'!K30 -> 21818 | L31: ='3.ВС'!L30 -> 21818
A32: Осуществление отдельных полномочий в области охраны труда и уведомительной регистрации территориальных соглашений и коллективных договоров | E32: 851 | F32: 01 | G32: 04 | H32: 51 4 01 17900 | J32: =J33+J35 -> 383338 | K32: =K33+K35 -> 383338 | L32: =L33+L35 -> 383338
A33: Расходы на выплаты персоналу в целях обеспечения выполнения функций государственными (муниципальными) органами, казенными учреждениями, органами управления государственными внебюджетными фондами | E33: 851 | F33: 01 | G33: 04 | H33: 51 4 01 17900 | I33: 100 | J33: =J34 -> 288500 | K33: =K34 -> 288500 | L33: =L34 -> 288500
A34: Расходы на выплаты персоналу государственных (муниципальных) органов | E34: 851 | F34: 01 | G34: 04 | H34: 51 4 01 17900 | I34: 120 | J34: ='3.ВС'!J33 -> 288500 | K34: ='3.ВС'!K33 -> 288500 | L34: ='3.ВС'!L33 -> 288500
A35: Закупка товаров, работ и услуг для обеспечения государственных (муниципальных) нужд | E35: 851 | F35: 01 | G35: 04 | H35: 51 4 01 17900 | I35: 200 | J35: =J36 -> 94838 | K35: =K36 -> 94838 | L35: =L36 -> 94838
A36: Иные закупки товаров, работ и услуг для обеспечения государственных (муниципальных) нужд | E36: 851 | F36: 01 | G36: 04 | H36: 51 4 01 17900 | I36: 240 | J36: ='3.ВС'!J35 -> 94838 | K36: ='3.ВС'!K35 -> 94838 | L36: ='3.ВС'!L35 -> 94838
A37: Обеспечение деятельности главы местной администрации (исполнительно-распорядительного органа муниципального образования) | E37: 851 | F37: 01 | G37: 04 | H37: 51 4 01 80020 | J37: =J38 -> 2348200 | K37: =K38 -> 2348200 | L37: =L38 -> 2348200
A38: Расходы на выплаты персоналу в целях обеспечения выполнения функций государственными (муниципальными) органами, казенными учреждениями, органами управления государственными внебюджетными фондами | E38: 851 | F38: 01 | G38: 04 | H38: 51 4 01 80020 | I38: 100 | J38: =J39 -> 2348200 | K38: =K39 -> 2348200 | L38: =L39 -> 2348200
A39: Расходы на выплаты персоналу государственных (муниципальных) органов | E39: 851 | F39: 01 | G39: 04 | H39: 51 4 01 80020 | I39: 120 | J39: ='3.ВС'!J38 -> 2348200 | K39: ='3.ВС'!K38 -> 2348200 | L39: ='3.ВС'!L38 -> 2348200
A40: Руководство и управление в сфере установленных функций органов местного самоуправления | E40: 851 | F40: 01 | G40: 04 | H40: 51 4 01 80040 | J40: =J41+J43+J45 -> 37159970 | K40: =K41+K43+K45 -> 29571069 | L40: =L41+L43+L45 -> 32905200
...

Sheet 5.ПС
B1: Приложение 5
B2: к Решению Клетнянского районного Совета народных депутатов "О бюджете Клетнянского муниципального района Брянской области на 2026 год и на плановый период 2027 и 2028 годов
A3: Распределение расходов бюджета Клетнянского муниципального района Брянской области по целевым статьям (муниципальным программам и непрограммным направлениям деятельности), группам и подгруппам видов расходов на 2026 год и на плановый период 2027 и 208 годов
L4: рублей
A5: Наименование | B5: МП | C5: ППМП | D5: ОМ | E5: ГРБС | F5: Рз | G5: Пр | H5: НР | I5: ВР | J5: 2026 год | K5: 2027 год | L5: 2028 год
A6: Обеспечение реализации полномочий Клетнянского муниципального района | B6: 51 | J6: =J7+J69+J83+J88+J98+J110+J115+J126+J134+J147+J155+J160+J165+J170+J175+J193+J202+J240+J246+J266+J279+J183+J188 -> 4.303588e+08 | K6: =K7+K69+K83+K88+K98+K110+K115+K126+K134+K147+K155+K160+K165+K170+K175+K193+K202+K240+K246+K266+K279+K183+K188 -> 1.8011994e+08 | L6: =L7+L69+L83+L88+L98+L110+L115+L126+L134+L147+L155+L160+L165+L170+L175+L193+L202+L240+L246+L266+L279+L183+L188 -> 1.4892004e+08
A7: Обеспечение эффективной деятельности главы и аппарата исполнительно-распорядительного органа муниципального образования | B7: 51 | C7: 0 | D7: 01 | J7: =J8 -> 41821828 | K7: =K8 -> 33919427 | L7: =L8 -> 37253558
A8: Администрация Клетнянского района | B8: 51 | C8: 0 | D8: 01 | E8: 851 | J8: =J9+J14+J19+J22+J27+J32+J35+J42+J45+J48+J51+J54+J57+J60+J63+J66 -> 41821828 | K8: =K9+K14+K19+K22+K27+K32+K35+K42+K45+K48+K51+K54+K57+K60+K63+K66 -> 33919427 | L8: =L9+L14+L19+L22+L27+L32+L35+L42+L45+L48+L51+L54+L57+L60+L63+L66 -> 37253558
A9: Осуществление отдельных государственных полномочий Брянской области в сфере деятельности по профилактике безнадзорности и правонарушений несовершеннолетних, организации деятельности административных комиссий и определения перечня должностных лиц органов местного самоуправления, уполномоченных составлять протоколы об административных правонарушениях (осуществление отдельных государственных полномочий Брянской области в сфере деятельности по профилактике безнадзорности и правонарушений несовершеннолетних) | B9: 51 | C9: 0 | D9: 01 | E9: 851 | F9: 01, 10 | G9: 13, 06 | H9: 12021 | J9: =J10+J12 -> 766676 | K9: =K10+K12 -> 766676 | L9: =L10+L12 -> 766676
A10: Расходы на выплаты персоналу в целях обеспечения выполнения функций государственными (муниципальными) органами, казенными учреждениями, органами управления государственными внебюджетными фондами | B10: 51 | C10: 0 | D10: 01 | E10: 851 | F10: 01, 10 | G10: 13, 06 | H10: 12021 | I10: 100 | J10: =J11 -> 747400 | K10: =K11 -> 747400 | L10: =L11 -> 747400
A11: Расходы на выплаты персоналу государственных (муниципальных) органов | B11: 51 | C11: 0 | D11: 01 | E11: 851 | F11: 01, 10 | G11: 13, 06 | H11: 12021 | I11: 120 | J11: ='3.ВС'!J15 -> 747400 | K11: ='3.ВС'!K15 -> 747400 | L11: ='3.ВС'!L15 -> 747400
A12: Закупка товаров, работ и услуг для обеспечения государственных (муниципальных) нужд | B12: 51 | C12: 0 | D12: 01 | E12: 851 | F12: 01, 10 | G12: 13, 06 | H12: 12021 | I12: 200 | J12: =J13 -> 19276 | K12: =K13 -> 19276 | L12: =L13 -> 19276
A13: Иные закупки товаров, работ и услуг для обеспечения государственных (муниципальных) нужд | B13: 51 | C13: 0 | D13: 01 | E13: 851 | F13: 01, 10 | G13: 13, 06 | H13: 12021 | I13: 240 | J13: ='3.ВС'!J17 -> 19276 | K13: ='3.ВС'!K17 -> 19276 | L13: ='3.ВС'!L17 -> 19276
A14: Осуществление отдельных государственных полномочий Брянской области в сфере деятельности по профилактике безнадзорности и правонарушений несовершеннолетних, организации деятельности административных комиссий и определения перечня должностных лиц органов местного самоуправления, уполномоченных составлять протоколы об административных правонарушениях (осуществление отдельных государственных полномочий Брянской области по организации деятельности административных комиссий ) | B14: 51 | C14: 0 | D14: 01 | E14: 851 | F14: 01, 10 | G14: 13, 06 | H14: 12022 | J14: =J15+J17 -> 766676 | K14: =K15+K17 -> 766676 | L14: =L15+L17 -> 766676
A15: Расходы на выплаты персоналу в целях обеспечения выполнения функций государственными (муниципальными) органами, казенными учреждениями, органами управления государственными внебюджетными фондами | B15: 51 | C15: 0 | D15: 01 | E15: 851 | F15: 01 | G15: 13 | H15: 12022 | I15: 100 | J15: =J16 -> 704100 | K15: =K16 -> 704100 | L15: =L16 -> 704100
A16: Расходы на выплаты персоналу государственных (муниципальных) органов | B16: 51 | C16: 0 | D16: 01 | E16: 851 | F16: 01 | G16: 13 | H16: 12022 | I16: 120 | J16: ='3.ВС'!J20 -> 704100 | K16: ='3.ВС'!K20 -> 704100 | L16: ='3.ВС'!L20 -> 704100
A17: Закупка товаров, работ и услуг для обеспечения государственных (муниципальных) нужд | B17: 51 | C17: 0 | D17: 01 | E17: 851 | F17: 01 | G17: 13 | H17: 12022 | I17: 200 | J17: =J18 -> 62576 | K17: =K18 -> 62576 | L17: =L18 -> 62576
A18: Иные закупки товаров, работ и услуг для обеспечения государственных (муниципальных) нужд | B18: 51 | C18: 0 | D18: 01 | E18: 851 | F18: 01 | G18: 13 | H18: 12022 | I18: 240 | J18: ='3.ВС'!J22 -> 62576 | K18: ='3.ВС'!K22 -> 62576 | L18: ='3.ВС'!L22 -> 62576
A19: Осуществление отдельных государственных полномочий Брянской области в сфере деятельности по профилактике безнадзорности и правонарушений несовершеннолетних, организации деятельности административных комиссий и определения перечня должностных лиц органов местного самоуправления, уполномоченных составлять протоколы об административных правонарушениях (осуществление отдельных государственных полномочий Брянской области по определению перечня должностных лиц органов местного самоуправления, уполномоченных составлять протоколы об административных правонарушениях) | B19: 51 | C19: 0 | D19: 01 | E19: 851 | F19: 01 | G19: 13 | H19: 12023 | J19: =J20 -> 400 | K19: =K20 -> 400 | L19: =L20 -> 400
A20: Закупка товаров, работ и услуг для обеспечения государственных (муниципальных) нужд | B20: 51 | C20: 0 | D20: 01 | E20: 851 | F20: 01 | G20: 13 | H20: 12023 | I20: 200 | J20: =J21 -> 400 | K20: =K21 -> 400 | L20: =L21 -> 400
A21: Иные закупки товаров, работ и услуг для обеспечения государственных (муниципальных) нужд | B21: 51 | C21: 0 | D21: 01 | E21: 851 | F21: 01 | G21: 13 | H21: 12023 | I21: 240 | J21: ='3.ВС'!J25 -> 400 | K21: ='3.ВС'!K25 -> 400 | L21: ='3.ВС'!L25 -> 400
A22: Установление регулируемых тарифов на регулярные перевозки пассажиров и багажа автомобильным транспортом и городским наземным электрическим транспортом по муниципальным маршрутам регулярных перевозок | B22: 51 | C22: 0 | D22: 01 | E22: 851 | F22: 04 | G22: 12 | H22: 17390 | J22: =J23+J25 -> 76668 | K22: =K23+K25 -> 76668 | L22: =L23+L25 -> 76668
A23: Расходы на выплаты персоналу в целях обеспечения выполнения функций государственными (муниципальными) органами, казенными учреждениями, органами управления государственными внебюджетными фондами | B23: 51 | C23: 0 | D23: 01 | E23: 851 | F23: 04 | G23: 12 | H23: 17390 | I23: 100 | J23: =J24 -> 54850 | K23: =K24 -> 54850 | L23: =L24 -> 54850
A24: Расходы на выплаты персоналу государственных (муниципальных) органов | B24: 51 | C24: 0 | D24: 01 | E24: 851 | F24: 04 | G24: 12 | H24: 17390 | I24: 120 | J24: ='3.ВС'!J28 -> 54850 | K24: ='3.ВС'!K28 -> 54850 | L24: ='3.ВС'!L28 -> 54850
A25: Закупка товаров, работ и услуг для обеспечения государственных (муниципальных) нужд | B25: 51 | C25: 0 | D25: 01 | E25: 851 | F25: 04 | G25: 12 | H25: 17390 | I25: 200 | J25: =J26 -> 21818 | K25: =K26 -> 21818 | L25: =L26 -> 21818
A26: Иные закупки товаров, работ и услуг для обеспечения государственных (муниципальных) нужд | B26: 51 | C26: 0 | D26: 01 | E26: 851 | F26: 04 | G26: 12 | H26: 17390 | I26: 240 | J26: ='3.ВС'!J30 -> 21818 | K26: ='3.ВС'!K30 -> 21818 | L26: ='3.ВС'!L30 -> 21818
A27: Осуществление отдельных полномочий в области охраны труда и уведомительной регистрации территориальных соглашений и коллективных договоров | B27: 51 | C27: 0 | D27: 01 | E27: 851 | F27: 04 | G27: 12 | H27: 17900 | J27: =J28+J30 -> 383338 | K27: =K28+K30 -> 383338 | L27: =L28+L30 -> 383338
A28: Расходы на выплаты персоналу в целях обеспечения выполнения функций государственными (муниципальными) органами, казенными учреждениями, органами управления государственными внебюджетными фондами | B28: 51 | C28: 0 | D28: 01 | E28: 851 | F28: 04 | G28: 12 | H28: 17900 | I28: 100 | J28: =J29 -> 288500 | K28: =K29 -> 288500 | L28: =L29 -> 288500
A29: Расходы на выплаты персоналу государственных (муниципальных) органов | B29: 51 | C29: 0 | D29: 01 | E29: 851 | F29: 04 | G29: 12 | H29: 17900 | I29: 120 | J29: ='3.ВС'!J33 -> 288500 | K29: ='3.ВС'!K33 -> 288500 | L29: ='3.ВС'!L33 -> 288500
A30: Закупка товаров, работ и услуг для обеспечения государственных (муниципальных) нужд | B30: 51 | C30: 0 | D30: 01 | E30: 851 | F30: 04 | G30: 12 | H30: 17900 | I30: 200 | J30: =J31 -> 94838 | K30: =K31 -> 94838 | L30: =L31 -> 94838
A31: Иные закупки товаров, работ и услуг для обеспечения государственных (муниципальных) нужд | B31: 51 | C31: 0 | D31: 01 | E31: 851 | F31: 04 | G31: 12 | H31: 17900 | I31: 240 | J31: ='3.ВС'!J35 -> 94838 | K31: ='3.ВС'!K35 -> 94838 | L31: ='3.ВС'!L35 -> 94838
A32: Обеспечение деятельности главы местной администрации (исполнительно-распорядительного органа муниципального образования) | B32: 51 | C32: 0 | D32: 01 | E32: 851 | F32: 01 | G32: 04 | H32: 80020 | J32: =J33 -> 2348200 | K32: =K33 -> 2348200 | L32: =L33 -> 2348200
A33: Расходы на выплаты персоналу в целях обеспечения выполнения функций государственными (муниципальными) органами, казенными учреждениями, органами управления государственными внебюджетными фондами | B33: 51 | C33: 0 | D33: 01 | E33: 851 | F33: 01 | G33: 04 | H33: 80020 | I33: 100 | J33: =J34 -> 2348200 | K33: =K34 -> 2348200 | L33: =L34 -> 2348200
A34: Расходы на выплаты персоналу государственных (муниципальных) органов | B34: 51 | C34: 0 | D34: 01 | E34: 851 | F34: 01 | G34: 04 | H34: 80020 | I34: 120 | J34: ='3.ВС'!J38 -> 2348200 | K34: ='3.ВС'!K38 -> 2348200 | L34: ='3.ВС'!L38 -> 2348200
A35: Руководство и управление в сфере установленных функций органов местного самоуправления | B35: 51 | C35: 0 | D35: 01 | E35: 851 | F35: 01 | G35: 04 | H35: 80040 | J35: =J36+J38+J40 -> 37159970 | K35: =K36+K38+K40 -> 29571069 | L35: =L36+L38+L40 -> 32905200
A36: Расходы на выплаты персоналу в целях обеспечения выполнения функций государственными (муниципальными) органами, казенными учреждениями, органами управления государственными внебюджетными фондами | B36: 51 | C36: 0 | D36: 01 | E36: 851 | F36: 01 | G36: 04 | H36: 80040 | I36: 100 | J36: =J37 -> 31483200 | K36: =K37 -> 26733469 | L36: =L37 -> 30067600
A37: Расходы на выплаты персоналу государственных (муниципальных) органов | B37: 51 | C37: 0 | D37: 01 | E37: 851 | F37: 01 | G37: 04 | H37: 80040 | I37: 120 | J37: ='3.ВС'!J41 -> 31483200 | K37: ='3.ВС'!K41 -> 26733469 | L37: ='3.ВС'!L41 -> 30067600
A38: Закупка товаров, работ и услуг для обеспечения государственных (муниципальных) нужд | B38: 51 | C38: 0 | D38: 01 | E38: 851 | F38: 01 | G38: 04 | H38: 80040 | I38: 200 | J38: =J39 -> 5578470 | K38: =K39 -> 2739300 | L38: =L39 -> 2739300
A39: Иные закупки товаров, работ и услуг для обеспечения государственных (муниципальных) нужд | B39: 51 | C39: 0 | D39: 01 | E39: 851 | F39: 01 | G39: 04 | H39: 80040 | I39: 240 | J39: ='3.ВС'!J43 -> 5578470 | K39: ='3.ВС'!K43 -> 2739300 | L39: ='3.ВС'!L43 -> 2739300
A40: Иные бюджетные ассигнования | B40: 51 | C40: 0 | D40: 01 | E40: 851 | F40: 01 | G40: 04 | H40: 80040 | I40: 800 | J40: =J41 -> 98300 | K40: =K41 -> 98300 | L40: =L41 -> 98300
...

Sheet ОМ ПСР
A3: Ведомственная структура расходов бюджета Клетнянского муниципального района Брянской области на 2021 год и на плановый период 2022 и 2023 годов
I4: 2020 | N4: 2024
A5: Наименование | E5: Гл | F5: Рз | G5: Пр | H5: ЦСР | I5: МП | J5: ПП | K5: ОМ | L5: НР | N5: МП | O5: код типа структурного элемента | P5: код структурного элемента | Q5: НР
A6: Администрация Клетнянского района | E6: 851
A7: Обеспечение эффективной деятельности главы и аппарата исполнительно-распорядительного органа муниципального образования | P7: 01
A8: Профилактика безнадзорности и правонарушений несовершеннолетних, организация деятельности административных комиссий и определение перечня должностных лиц органов местного самоуправления, уполномоченных составлять протоколы об административных правонарушениях | E8: 851 | F8: 01 | G8: 13 | H8: 51 0 11 12020 | I8: 51 | J8: 0 | K8: 11 | L8: 12020 | M8: 51 4 01 12020 | N8: 51 | O8: 4 | P8: 01 | Q8: 12020
A9: Осуществление отдельных полномочий в области охраны труда и уведомительной регистрации территориальных соглашений и коллективных договоров | E9: 851 | F9: 04 | G9: 12 | H9: 51 0 11 17900 | I9: 51 | K9: 11 | L9: 17900 | N9: 51 | O9: 4 | P9: 01 | Q9: 17900
A10: Проведение Всероссийской переписи населения 2020 года | E10: 851 | F10: 01 | G10: 13 | H10: 51 0 11 54690 | I10: 51 | J10: 0 | K10: 11 | L10: 54690 | N10: 51 | O10: 4 | P10: 01 | Q10: 54690
A11: Обеспечение деятельности главы местной администрации (исполнительно-распорядительного органа муниципального образования) | E11: 851 | F11: 01 | G11: 04 | H11: 51 0 11 80020 | I11: 51 | J11: 0 | K11: 11 | L11: 80020 | M11: 51 4 01 80020 | N11: 51 | O11: 4 | P11: 01 | Q11: 80020 | R11: 4 | S11: основные мероприятия муниципальных программ | X11: 01 | Y11: Создание условий для эффективной деятельности главы и аппарата исполнительно-распорядительного органа муниципального образования
A12: Руководство и управление в сфере установленных функций органов местного самоуправления | E12: 851 | F12: 01 | G12: 04 | H12: 51 0 11 80040 | I12: 51 | J12: 0 | K12: 11 | L12: 80040 | M12: 51 4 01 80040 | N12: 51 | O12: 4 | P12: 01 | Q12: 80040 | R12: 4 | X12: 01
A13: Информационное освещение деятельности органов местного самоуправления | E13: 851 | F13: 01 | G13: 04 | H13: 51 0 11 80070 | I13: 51 | J13: 0 | K13: 11 | L13: 80070 | M13: 51 0 01 80070 | N13: 51 | O13: 4 | P13: 01 | Q13: 80070
A14: Опубликование нормативных правовых актов муниципальных образований и иной официальной информации | E14: 851 | F14: 01 | G14: 04 | H14: 51 0 11 80100 | I14: 51 | J14: 0 | K14: 11 | L14: 80100 | M14: 51 0 01 80100 | N14: 51 | O14: 4 | P14: 01 | Q14: 80100
A15: Членские взносы некоммерческим организациям | E15: 851 | F15: 01 | G15: 04 | H15: 51 0 11 81410 | I15: 51 | J15: 0 | K15: 11 | L15: 81410 | M15: 51 4 01 81410 | N15: 51 | O15: 4 | P15: 01 | Q15: 81410 | R15: 4 | X15: 01
A16: Повышение энергетической эффективности и обеспечения энергосбережения | E16: 851 | F16: 01 | G16: 13 | H16: 51 0 11 83260 | I16: 51 | J16: 0 | K16: 11 | L16: 83260 | N16: 51 | O16: 4 | P16: 01 | Q16: 83260
A17: Реализация переданных полномочий по решению отдельных вопросов местного значения поселений в соответствии с заключенными соглашениями в части формирования архивных фондов поселений | E17: 851 | F17: 01 | G17: 04 | H17: 51 0 11 84220 | I17: 51 | J17: 0 | K17: 11 | L17: 84220 | M17: 51 4 01 84220 | N17: 51 | O17: 4 | P17: 01 | Q17: 84220 | R17: 4 | X17: 01
A18: Профилактика безнадзорности и правонарушений несовершеннолетних, организация деятельности административных комиссий и определение перечня должностных лиц органов местного самоуправления, уполномоченных составлять протоколы об административных правонарушениях | E18: 851 | F18: 10 | G18: 06 | H18: 51 0 11 12020 | I18: 51 | K18: 11 | L18: 12020 | N18: 51 | O18: 4 | P18: 01 | Q18: 12020
A19: Эксплуатация и содержание имущества, находящегося в муниципальной собственности, арендованного недвижимого имущества | E19: 851 | F19: 01 | G19: 13 | H19: 51 0 11 80930 | I19: 51 | J19: 0 | K19: 11 | N19: 51 | O19: 0
A20: Закупка товаров, работ и услуг для обеспечения государственных (муниципальных) нужд | E20: 851 | F20: 01 | G20: 13 | H20: 51 0 11 80930
A21: Иные закупки товаров, работ и услуг для обеспечения государственных (муниципальных) нужд | E21: 851 | F21: 01 | G21: 13 | H21: 51 0 11 80930
A22: Бюджетные инвестиции в объекты капитального строительства муниципальной собственности | E22: 851 | F22: 01 | G22: 13 | H22: 51 0 11 81680
A23: Капитальные вложения в объекты государственной (муниципальной) собственности | E23: 851 | F23: 01 | G23: 13 | H23: 51 0 11 81680
A24: Бюджетные инвестиции | E24: 851 | F24: 01 | G24: 13 | H24: 51 0 11 81680
A25: Обеспечение эффективного управления муниципальным имуществом | P25: 02
A26: Оценка имущества, признание прав и регулирование отношений муниципальной собственности | E26: 851 | F26: 01 | G26: 13 | H26: 51 0 11 80900 | I26: 51 | J26: 0 | K26: 11 | L26: 80900 | M26: 51 4 01 80900 | N26: 51 | O26: 4 | P26: 02 | Q26: 80900
A27: Мероприятия по землеустройству и землепользованию | E27: 851 | F27: 04 | G27: 12 | H27: 51 0 11 80910 | I27: 51 | K27: 11 | L27: 80910 | O27: 4 | P27: 02 | Q27: 80910
A28: Эксплуатация и содержание имущества казны муниципального образования | E28: 851 | F28: 01 | G28: 13 | H28: 51 0 11 80920 | I28: 51 | J28: 0 | K28: 11 | L28: 80920 | M28: 51 4 01 80920 | N28: 51 | O28: 4 | P28: 02 | Q28: 80920
A29: Эксплуатация и содержание имущества, находящегося в муниципальной собственности, арендованного недвижимого имущества | N29: 51 | O29: 4 | P29: 02 | Q29: 80930
A30: Уплата взносов на капитальный ремонт многоквартирных домов за объекты муниципальной казны и имущества, закрепленного за органами местного самоуправления | E30: 851 | F30: 05 | G30: 01 | H30: 51 0 31 81830 | I30: 51 | K30: 31 | L30: 81830 | N30: 51 | O30: 4 | P30: 02 | Q30: 81830
A31: Реализация переданных полномочий по решению отдельных вопросов местного значения муниципальных районов в соответствии с заключенными соглашениями на утверждение генеральных планов поселения, правил землепользования и застройки, утверждение подготовленной на основе генеральных планов поселения документации по планировке территорий | E31: 851 | F31: 04 | G31: 12 | H31: 51 0 11 83750 | I31: 51 | K31: 11 | L31: 83750 | N31: 51 | O31: 4 | P31: 02 | Q31: 83750
A32: Повышение качества и доступности предоставления муниципальных услуг в Клетнянском районе | P32: 03
A33: Многофункциональные центры предоставления государственных и муниципальных услуг | E33: 851 | F33: 01 | G33: 13 | H33: 51 0 14 80710 | I33: 51 | J33: 0 | K33: 14 | L33: 80710 | N33: 51 | O33: 4 | P33: 03 | Q33: 80710 | S33: 51 4 02 80710 | X33: 02
A34: Повышение качества и доступности предоставления государственных и муниципальных услуг | E34: 851 | F34: 01 | G34: 13 | H34: 51 0 14 S8640 | I34: 51 | J34: 0 | K34: 14 | L34: 8640 | N34: 51 | O34: 4 | P34: 03 | Q34: S8640
A35: Обеспечение реализации отдельных государственных полномочий Брянской области, включая переданные на муниципальный уровень полномочия | P35: 04
A36: Осуществление первичного воинского учета на территориях, где отсутствуют военные комиссариаты | E36: 851 | F36: 02 | G36: 03 | H36: 51 0 15 51180 | I36: 51 | J36: 0 | K36: 15 | L36: 51180 | N36: 51 | O36: 4 | P36: 04 | Q36: 51180 | X36: 03
A37: Осуществление полномочий по составлению (изменению) списков кандидатов в присяжные заседатели федеральных судов общей юрисдикции в Российской Федерации | E37: 851 | F37: 01 | G37: 05 | H37: 51 0 41 51200 | M37: 51 4 02 51200 | N37: 51 | O37: 4 | P37: 04 | Q37: 51200 | R37: 4
A38: Повышение защиты населения и территории Клетнянского района от чрезвычайных ситуаций природного и техногенного характера | P38: 05
A39: Единые дежурно-диспетчерские службы | E39: 851 | F39: 03 | G39: 10 | H39: 51 0 12 80700 | I39: 51 | J39: 0 | K39: 12 | L39: 80700 | N39: 51 | O39: 4 | P39: 05 | Q39: 80700 | X39: 04
A40: Оповещение населения об опасностях, возникающих при ведении военных действий и возникновении чрезвычайных ситуаций | E40: 851 | F40: 03 | G40: 10 | H40: 51 0 12 81200 | I40: 51 | J40: 0 | K40: 12 | L40: 81200 | N40: 51 | O40: 4 | P40: 05 | Q40: 81200
A41: Предупреждение и ликвидация заразных и иных болезней | P41: 06
A42: Организация проведения на территории Брянской области мероприятий по предупреждению и ликвидации болезней животных, их лечению, защите населения от болезней, общих для человека и животных, в части оборудования и содержания скотомогильников (биотермических ям) и по организации мероприятий при осуществлении деятельности по обращению с животными без владельцев | E42: 851 | F42: 04 | G42: 05 | H42: 51 0 21 12510 | I42: 51 | J42: 0 | K42: 21 | L42: 12510 | N42: 51 | O42: 4 | P42: 06 | Q42: 12510 | X42: 05
...

Sheet субс,субв
B2: Сумма на 2025 год, рублей
A3: Иные межбюджетные трансферты всего | B3: =B4+B15 -> 6676468
A4: Межбюджетные трансферты, передаваемые бюджетам муниципальных районов из бюджетов поселений на осуществление части полномочий по решению вопросов местного значения в соответствии с заключенными соглашениями: | B4: 5894800
A5: − по формированию архивных фондов поселений | B5: 2500
A6: - в части осуществления муниципального земельного контроля в границах поселений | B6: 600
A7: - в части осуществления муниципального жилищного контроля | B7: 600
A8: - в части осуществления муниципального контроля на автомобильном транспорте, городском наземном электрическом транспорте и в дорожном хозяйстве в границах населенных пунктов поселения | B8: 600
A9: - в части осуществления муниципального контроля в сфере благоустройства | B9: 2100
A10: −по осуществлению внешнего муниципального контроля | B10: 18000
